{"text_format":"1","workbook":"xlsx","n_sheets":8,"sheets":["Capa not","Capa","Disclaimer","Ajuda","Simular IRS 2019","Informação 2014","Informação 2019","BIG SIMULATOR"],"not_rendered":{"charts":0,"images":19,"macros":1,"external_links":1,"defined_names":27,"comments":0,"pivot_tables":0},"unopened":[],"bounds":{"document_bytes":16777216,"sheet_cells":100000,"rows_first":2000,"rows_last":500,"rows_between":2000,"halvings":0,"cell_chars":16384,"cell_head_chars":4096},"cells_cut":0,"cells_raw":0,"read":"whole","date_system":"1900"}

{"sheet":"Capa not","index":0,"n_rows":28,"n_cols":18,"rows_kept":28,"cut":false,"hidden":true,"merged":[]}
[]
[]
[]
[]
[]
[]
[]
[]
[]
[]
[]
[]
[]
[]
[]
[]
[]
[]
[]
[]
[]
[]
[]
[]
[]
[]
[]
[null,null,null,null,null,null,null,null,null,null,null,null,null,null,null,null,null,"Falta alterar ligações"]

{"sheet":"Capa","index":1,"n_rows":0,"n_cols":0,"rows_kept":0,"cut":false,"hidden":false,"merged":[]}

{"sheet":"Disclaimer","index":2,"n_rows":47,"n_cols":3,"rows_kept":47,"cut":false,"hidden":false,"merged":[]}
[]
[]
[]
[]
[]
[]
[]
[]
[]
[null,null,"Simulador não prevê as seguintes situações"]
[]
[null,null,"- Residentes fiscais nos Açores\n- Sujeitos passivos deficientes\n- Agregados Familiares em que os dependentes ou os ascendentes aufiram rendimentos                                                                                                                                                                                                                                                                                  \n- O simulador não prevê situações de guarda conjunta de dependentes"]
[null,null,"- O simulador não prevê a majoração da dedução à coleta de 125€ por dependente com idade inferior ou igual a 3 anos"]
[null,null,"- A tributação de pensão de alimentos"]
[]
[null,null,"Pressupostos da estimativa de imposto"]
[null,null,"- Os dependentes poderão ser incluídos em mais do que uma declaração de rendimentos, desde que indique que há tributação separada.\n- As simulações de imposto encontram-se limitadas às categorias de rendimentos e despesas incluídas no simulador."]
[null,null,"- As estimativas disponibilizadas são meramente ilustrativas e baseadas na interpretação da PwC da Lei n.º 159-D/2015, de 30 de dezembro, relativamente à aplicação da sobretaxa de IRS e da Proposta de Lei n.º 156/XIII, relativamente ao Orçamento de Estado para 2019."]
[null,null,"- As simulações de imposto não consideram o mínimo de existência para agregados familiares com três ou mais dependentes nem as agregados familiares casados/união de facto com 1 titular."]
[]
[null,null,"Trabalho dependente"]
[]
[null,null,"- Como dedução específica aos rendimentos do trabalho dependente, apenas se encontram previstas a dedução específica considerada na lei ou as contribuições obrigatórias para regimes de proteção social e para subsistemas legais de saúde. Assume, a taxa de contribuições para a Segurança Social ou outros regimes à taxa de 11%."]
[]
[null,null,"Pensões"]
[]
[null,null,"- Não se encontram previstas situações de convergência da Caixa Geral de Aposentações com as pensões pagas pelo Centro Nacional de Pensões."]
[]
[null,null,"Deduções à coleta"]
[]
[null,null,"Despesas de saúde"]
[null,null,"- Assume-se que o valor de despesas de saúde introduzidas se referem integralmente a despesas isentas de IVA ou \nsujeitas à taxa reduzida de IVA."]
[]
[null,null,"Despesas de educação"]
[null,null,"- O simulador não contempla as situações de estudantes que frequentem estabelecimentos de ensino situados em território do interior."]
[]
[null,null,"Encargos com imóveis"]
[null,null,"- O simulador não contempla as situações de transferência de residência permanente para um território do interior."]
[]
[null,null,"Despesas gerais"]
[null,null,"- Assume-se que o valor de despesas gerais introduzido poderá conter despesas incorridas por qualquer membro do agregado familiar, que conste de faturas que titulem prestações de serviços e aquisições de bens comunicadas à Autoridade Tributária, enquadradas em qualquer setor de atividade, com excepção das despesas de saúde e encargos com imóveis.\n- No caso de optar por tributação separada, deverá dividir o valor de despesas gerais por dois."]
[]
[null,null,"Encargos com donativos"]
[null,null,"- Assume-se por defeito uma majoração de 130%, sem qualquer limitação, dos encargos com donativos. No entanto, nota-se que a percentagem de majoração do encargo dependerá da natureza da entidade beneficiária do mesmo (esta majoração poderá variar entre 120% e 140%).\n- No caso de optar por tributação separada, deverá inserir o valor do donativo na simulação do contribuinte que conste do recibo comprovativo do mesmo."]
[]
[null,null,"IVA"]
[null,null,"- O simulador não considera a dedução a 15% referente ao benefício fiscal do IVA suportado."]

{"sheet":"Ajuda","index":3,"n_rows":34,"n_cols":3,"rows_kept":34,"cut":false,"hidden":false,"merged":[]}
[]
[]
[]
[]
[]
[]
[]
[]
[]
[]
[]
[]
[]
[]
[]
[]
[]
[]
[]
[]
[]
[]
[]
[]
[]
[]
[]
[]
[]
[]
[]
[]
[]
[null,null,"     Veja abaixo as opções a selecionar:"]

{"sheet":"Simular IRS 2019","index":4,"n_rows":98,"n_cols":12,"rows_kept":98,"cut":false,"hidden":false,"merged":[[22,1,25,1],[78,4,78,5],[79,4,79,5],[80,4,80,5],[54,6,54,7],[78,1,83,1],[75,3,75,9],[29,1,61,1],[30,6,30,7],[52,6,52,7],[81,4,81,5],[82,4,82,5],[83,4,83,5],[23,6,23,7],[25,6,25,7],[36,6,36,7],[1,1,2,11],[6,1,10,1],[15,6,15,9],[17,1,21,1],[18,6,18,7],[20,6,20,7],[17,6,17,7],[28,9,28,12],[62,1,71,1],[63,6,63,7],[66,6,66,7],[68,6,68,7],[70,6,70,7],[58,6,58,7],[34,6,34,7],[56,6,56,7],[28,6,28,7],[38,6,38,7],[40,6,40,7],[97,1,98,1],[101,1,101,12],[92,11,93,14],[45,6,45,7],[91,4,91,5],[92,4,92,5],[93,4,93,5],[94,4,94,5],[84,4,84,5],[86,4,86,5],[87,4,87,5],[88,4,88,5],[89,4,89,5],[90,4,90,5]]}
[]
[]
[]
[]
[]
[null,"Passo 1",null,"Informação pessoal"]
[]
[null,null,null,"Estado civil"]
[null,null,null,"Tributação Separada / Tributação Conjunta"]
[null,null,null,"Nº de Dependentes"]
[null,null,null,"Nº de Ascendentes"]
[null,null,null,"Idade Sujeito Passivo A"]
[]
[null,null,null,"Idade Sujeito Passivo B"]
[]
[]
[null,"Passo 2",null,"Rendimentos"]
[null,"Rendimento do trabalho dependente",null,null,null,null,"Sujeito passivo A",null,null,null,null,"Sujeito passivo B"]
[null,null,null,"Rendimento do trabalho dependente - Privado"]
[]
[null,null,null,"Rendimento do trabalho dependente - Público (antes de cortes 2014)"]
[]
[null,"Pensões"]
[null,null,null,"Pensões "]
[]
[null,null,null,"Pensões de alimentos"]
[]
[]
[null,"Passo 3",null,"Deduções à coleta do IRS, incluindo benefícios fiscais"]
[null,"Deduções\nà coleta"]
[null,null,null,"Despesas de saúde e prémios de seguros de saúde"]
[]
[null,null,null,"Despesas de educação do agregado familiar:"]
[]
[null,null,null,"Despesas sem incluir rendas"]
[]
[null,null,null,"Despesas apenas relativas as rendas"]
[]
[null,null,null,"Deslocado (sem incluir rendas)"]
[]
[null,null,null,"Deslocado (incluir apenas rendas)"]
[]
[]
[null,null,null,"  Nº de dependentes com despesas de educação",null,null,null,{"$f":"'BIG SIMULATOR'!C93","v":"0"},null,null,{"$f":"'BIG SIMULATOR'!C95","v":0}]
[]
[null,null,null,"Despesas de educação dos sujeitos passivos"]
[]
[null,null,null,"  Nº de sujeitos passivos com despesas de educação",null,null,null,null,null,null,{"$f":"+'BIG SIMULATOR'!C92","v":1}]
[]
[null,null,null,"Despesas com imóveis"]
[null,null,null,"Ano do contrato (preenchimento obrigatório)"]
[]
[null,null,null,"Juros"]
[]
[null,null,null,"Despesas com rendas"]
[]
[null,null,null,"Despesas gerais (outras não referidas acima)"]
[]
[null,null,null,"Encargos com pensões de alimentos"]
[]
[null,null,null,"  Nº de beneficiários (preenchimento obrigatório)"]
[]
[]
[null,null,null,"Seguros de saúde"]
[]
[null,null,null,"Contribuições para Planos Poupança Reforma (PPR's)"]
[null,null,null,"SujeitoPassivo A"]
[]
[null,null,null,"SujeitoPassivo B"]
[]
[null,null,null,"Encargos com donativos"]
[]
[]
[]
[]
[null,null,null,{"$f":"IF('BIG SIMULATOR'!C91=\"\",\"Falta preencher dados\",\"\"&'BIG SIMULATOR'!C91&\"\"&IF('BIG SIMULATOR'!C92=1,\"\",\", \"&'BIG SIMULATOR'!C102)&\"\"&\", \"&IF('BIG SIMULATOR'!C95>1,\"\"&'BIG SIMULATOR'!C95&\" filhos\",IF('BIG SIMULATOR'!C95=1,\"\"&'BIG SIMULATOR'!C95&\" filho\",\"sem filhos\")))&\", \"&IF('BIG SIMULATOR'!C96=\"0\",\" sem ascendentes\",IF('BIG SIMULATOR'!C96=\"1\",\"\"&'BIG SIMULATOR'!C96&\" ascendente\",\"\"&'BIG SIMULATOR'!C96&\" ascendentes\"))","v":"Solteiro / Viúvo / Divorciado, sem filhos,  sem ascendentes"}]
[]
[]
[null,null,null,"Rendimento bruto",2016,null,2017,2018,2019]
[null,null,null,"Rendimento bruto",{"$f":"IFERROR(+'BIG SIMULATOR'!$M$107,0)","v":0},null,{"$f":"IFERROR(+'BIG SIMULATOR'!$M$107,0)","v":0},{"$f":"IFERROR(+'BIG SIMULATOR'!$M$107,0)","v":0},{"$f":"IFERROR(+'BIG SIMULATOR'!$M$107,0)","v":0}]
[null,null,null,"Redução remuneratória para Função Pública",{"$f":"('BIG SIMULATOR'!L131-'BIG SIMULATOR'!L134)+('BIG SIMULATOR'!L140-'BIG SIMULATOR'!L143)","v":0},null,{"$f":"('BIG SIMULATOR'!M131-'BIG SIMULATOR'!M134)+('BIG SIMULATOR'!M140-'BIG SIMULATOR'!M143)","v":0},{"$f":"('BIG SIMULATOR'!N131-'BIG SIMULATOR'!N134)+('BIG SIMULATOR'!N140-'BIG SIMULATOR'!N143)","v":0},{"$f":"('BIG SIMULATOR'!N131-'BIG SIMULATOR'!N134)+('BIG SIMULATOR'!N140-'BIG SIMULATOR'!N143)","v":0}]
[null,null,null,"Rendimento bruto com corte",{"$f":"IF(E81=0,E80,+'BIG SIMULATOR'!H22)","v":0},null,{"$f":"IF(G81=0,G80,+'BIG SIMULATOR'!K22)","v":0},{"$f":"IF(H81=0,H80,+'BIG SIMULATOR'!L22)","v":0},{"$f":"IF(H81=0,H80,+'BIG SIMULATOR'!L22)","v":0}]
[null,null,null,"Contribuição extraordinária de solidariedade (CES)",{"$f":"IF('BIG SIMULATOR'!J179>0,'BIG SIMULATOR'!J179,0)+IF('BIG SIMULATOR'!J189>0,'BIG SIMULATOR'!J189,0)","v":0},null,{"$f":"IF('BIG SIMULATOR'!K179>0,'BIG SIMULATOR'!K179,0)+IF('BIG SIMULATOR'!K189>0,'BIG SIMULATOR'!K189,0)","v":0},{"$f":"IF('BIG SIMULATOR'!L179>0,'BIG SIMULATOR'!L179,0)+IF('BIG SIMULATOR'!L189>0,'BIG SIMULATOR'!L189,0)","v":0},{"$f":"IF('BIG SIMULATOR'!M179>0,'BIG SIMULATOR'!M179,0)+IF('BIG SIMULATOR'!M189>0,'BIG SIMULATOR'!M189,0)","v":0}]
[null,null,null,"IRS antes de deduções (1)",{"$f":"'BIG SIMULATOR'!J45","v":0},null,{"$f":"'BIG SIMULATOR'!K45","v":0},{"$f":"'BIG SIMULATOR'!L45","v":0},{"$f":"'BIG SIMULATOR'!L45","v":0}]
[null,null,null,"Taxa adicional de solidariedade (2)",{"$f":"'BIG SIMULATOR'!J73","v":0},null,{"$f":"'BIG SIMULATOR'!K73","v":0},{"$f":"'BIG SIMULATOR'!L73","v":0},{"$f":"'BIG SIMULATOR'!L73","v":0}]
[null,null,null,"Deduções à coleta (3)"]
[null,null,null,"        Deduções à coleta ",{"$f":"'BIG SIMULATOR'!J58","v":0},null,{"$f":"'BIG SIMULATOR'!K58","v":0},{"$f":"'BIG SIMULATOR'!L58","v":0},{"$f":"'BIG SIMULATOR'!L58","v":0}]
[null,null,null,"Despesas gerais",{"$f":"+'BIG SIMULATOR'!J54","v":0},null,{"$f":"+'BIG SIMULATOR'!K54","v":0},{"$f":"+'BIG SIMULATOR'!L54","v":0},{"$f":"+'BIG SIMULATOR'!L54","v":0}]
[null,null,null,"Deduções por dependente/ascendente",{"$f":"IF(E80=0,0,-'BIG SIMULATOR'!K215-'BIG SIMULATOR'!K216)","v":0},null,{"$f":"IF(G80=0,0,-'BIG SIMULATOR'!L215-'BIG SIMULATOR'!L216)","v":0},{"$f":"IF(H80=0,0,-'BIG SIMULATOR'!M215-'BIG SIMULATOR'!M216)","v":0},{"$f":"IF(I80=0,0,-'BIG SIMULATOR'!M215-'BIG SIMULATOR'!M216)","v":0}]
[null,null,null,"        Deduções com benefícios fiscais",{"$f":"'BIG SIMULATOR'!H65","v":0},null,{"$f":"'BIG SIMULATOR'!J65","v":0}]
[null,null,null,"Sobretaxa (4)",{"$f":"'BIG SIMULATOR'!J71","v":0},null,{"$f":"'BIG SIMULATOR'!K71","v":0},{"$f":"'BIG SIMULATOR'!L71","v":0},{"$f":"'BIG SIMULATOR'!L71","v":0}]
[null,null,null,"Pensão de alimentos",{"$f":"+'BIG SIMULATOR'!J176+'BIG SIMULATOR'!J186","v":0},null,{"$f":"+'BIG SIMULATOR'!K176+'BIG SIMULATOR'!K186","v":0}]
[null,null,null," Imposto final    (1)+(2)+(3)+(4)",{"$f":"'BIG SIMULATOR'!J78","v":0},null,{"$f":"'BIG SIMULATOR'!K78","v":0},{"$f":"'BIG SIMULATOR'!L78","v":0},{"$f":"'BIG SIMULATOR'!L78","v":0}]
[null,null,null,"Rendimento líquido de IRS",{"$f":"'BIG SIMULATOR'!J85","v":0},null,{"$f":"'BIG SIMULATOR'!K85","v":0},{"$f":"'BIG SIMULATOR'!L85","v":0},{"$f":"'BIG SIMULATOR'!L85","v":0}]
[null,null,null,"Taxa efetiva",{"$f":"IFERROR('BIG SIMULATOR'!J83,0)","v":0},null,{"$f":"IFERROR('BIG SIMULATOR'!K83,0)","v":0},{"$f":"IFERROR('BIG SIMULATOR'!L83,0)","v":0},{"$f":"IFERROR('BIG SIMULATOR'!L83,0)","v":0}]
[]
[]
[null,null,null,"Caso o imposto final seja inferior a 25 € não haverá lugar ao pagamento de qualquer imposto"]

{"sheet":"Informação 2014","index":5,"n_rows":68,"n_cols":5,"rows_kept":68,"cut":false,"hidden":true,"merged":[[37,2,37,6],[39,2,39,6],[41,2,41,6],[43,2,43,6],[30,2,30,6],[64,2,64,6],[65,2,65,6],[54,2,54,6],[61,2,61,6],[62,2,62,6],[63,2,63,6],[56,2,56,6],[57,2,57,6],[59,2,59,6],[55,2,55,6],[28,2,28,6],[12,2,12,6],[14,2,14,6],[17,2,17,6],[35,2,35,6],[34,2,34,6],[26,2,26,6],[22,2,22,6],[24,2,24,6],[46,2,46,6],[48,2,48,6],[50,2,50,6],[51,2,51,6],[53,2,53,6],[47,2,47,6],[52,2,52,6],[1,4,2,6],[29,2,29,6],[45,2,45,6],[10,2,10,6],[19,2,19,6],[21,2,21,6],[3,2,3,6],[6,2,6,6],[7,2,7,6],[8,2,8,6],[32,2,32,6],[9,2,9,6],[44,2,44,6],[11,2,11,6],[16,2,16,6],[23,2,23,6]]}
[]
[null,null,null,null,"Despesas dedutíveis - Limites para 2014"]
[]
[]
[]
[]
[null,null,"Despesas de saúde"]
[]
[null,null,"10% das seguintes despesas de saúde:"]
[null,null,"● 10% das despesas de saúde isentas de IVA ou sujeitas à taxa reduzida de 6%;"]
[null,null,"●  10% das despesas de saúde não reembolsadas sujeitas a IVA à taxa de 23%, suportadas por receita médica, com limite de 65 Euros ou 2.5% das despesas referidas acima, se superior;"]
[null,null,"● 10% das despesas incorridas pelos ascendentes e colaterais até ao 3º grau do sujeito passivo, desde que estes tenham um rendimento inferior ao salário mínimo nacional \n(485 Euros por mês) e juros de dívidas contraídas para o pagamento das referidas despesas;"]
[null,null,"● O total das deduções acima mencionadas não pode ultrapassar o limite de 838,44 Euros, exceto nos agregados com três ou mais dependentes em que o referido limite é elevado em 125,77 Euros por cada dependente, desde que todos tenham despesas de saúde."]
[]
[null,null,"Despesas de educação"]
[]
[null,null,"●  30% das despesas de educação e formação, com o limite de 760 Euros;"]
[null,null,"●  Este limite é elevado em 142,50 Euros, por cada dependente, desde que o número de filhos dependentes seja de três ou mais e existam, relativamente a todos eles, despesas de educação ou formação."]
[]
[null,null,"Encargos com imóveis e rendas"]
[]
[null,null,"●  15% dos juros de empréstimos contraídos até 31 de dezembro de 2011 para aquisição, construção ou beneficiação de habitação própria e permanente, com o limite de 296 Euros; O referido limite é majorado em 50% e 20% para sujeitos passivos com rendimento colectável até 7.000 Euros e no intervalo de 7.000 Euros até 20.000 Euros, respetivamente."]
[null,null,"●  15% das rendas pagas ao abrigo do Regime do Arrendamento Urbano (RAU) para habitação permanente, com limite de 414 Euros; O primeiro limite é majorado em 50% e 20% para sujeitos passivos com rendimento coletável até 7.000 Euros e no intervalo de 7.000 Euros até 20.000 Euros."]
[]
[null,null,"Despesas com pensões de alimentos e similares"]
[]
[null,null,"●  20% dos encargos com pensões de alimentos, desde que resultantes de sentença judicial ou acordo judicialmente homologado,com o limite de 419,22 Euros por mês e por beneficiário."]
[]
[null,null,"Despesas com lares"]
[]
[null,null,"●  25% das despesas com lares de terceira idade relativas aos sujeitos passivos, seus ascendentes e colaterais até ao 3º grau que não possuam rendimentos superiores ao salário mínimo nacional (485 Euros por mês) com o limite de 403,75 Euros.  "]
[]
[null,null,"Despesas com prémios de seguros de saúde"]
[]
[null,null,"●  10% dos prémios pagos, com os limites de 50 Euros para sujeitos passivos não casados ou separados judicialmente e de 100 Euros para casais;"]
[null,null,"●  Estes limites são elevados em 25 Euros por cada filho dependente."]
[]
[null,null,"Encargos com donativos"]
[]
[null,null,"●  25% dos donativos destinados a igrejas, instituiçoes religiosas, instituições de caridade, museus, escolas, bibliotecas e outras entidades de cariz social, cultural ou científico reconhecidas pelo Estado, até ao limite de 15% da coleta."]
[]
[null,null,"Contribuições para Planos Poupança Reforma (PPR)"]
[]
[null,null,"●  20% dos valores aplicados no respetivo ano por sujeito passivo, com o limite máximo:                              \n"]
[null,null,"            \u009e 400 Euros por sujeito passivo com idade inferior a 35 anos;                                  "]
[null,null,"            \u009e 350 Euros por sujeito passivo com idade compreendida entre os 35 e os 50 anos;                                                                        "]
[null,null,"            \u009e 300 Euros por sujeito passivo com idade inferior a 50 anos.                                                                     "]
[]
[null,null,"Limite à soma das deduções à coleta"]
[]
[null,null,"Rendimento coletável situado no 1º escalão                   Sem Limite\n"]
[null,null,"Rendimento coletável situado no 2º escalão                   1.250 Euros\n"]
[null,null,"Rendimento coletável situado no 3º escalão                   1.000 Euros\n"]
[null,null,"Rendimento coletável situado no 4º escalão                   500 Euros\n"]
[null,null,"Rendimento colectável situado no 5º escalão                   0 Euros\n"]
[]
[null,null," ● As deduções à colecta incluem: despesas de saúde, educação e formação, encargos com lares, encargos com imóveis e pensões de alimentos;"]
[null,null," ● Estes limites são majorados em 10% por cada dependente ou afilhado civil que não seja sujeito passivo de IRS."]
[]
[null,null,"Limite dos benefícios fiscais dedutíveis à coleta"]
[]
[null,null,"Rendimento coletável situado no 1º escalão                   Sem Limite\n"]
[null,null,"Rendimento coletável situado no 2º escalão                   100 Euros\n"]
[null,null,"Rendimento coletável situado no 3º escalão                   80 Euros\n"]
[null,null,"Rendimento coletável situado no 4º escalão                   60 Euros\n"]
[null,null,"Rendimento coletável situado no 5º escalão                   0 Euros\n"]
[]
[null,null," ● As deduções com benefícios fiscais incluem: seguros de saúde, PPR's, encargos com donativos."]

{"sheet":"Informação 2019","index":6,"n_rows":66,"n_cols":7,"rows_kept":66,"cut":false,"hidden":false,"merged":[[1,3,1,6],[9,2,9,6],[11,2,11,6],[27,2,27,6],[3,2,3,6],[23,2,23,6],[24,2,24,6],[25,2,25,6],[5,2,5,6],[7,2,7,6],[8,2,8,6],[21,2,21,6],[13,2,13,6],[15,2,15,6],[17,2,17,6],[18,2,18,6],[66,2,66,6],[26,2,26,6],[28,2,28,6],[63,2,63,6],[61,2,61,4],[62,2,62,4],[65,2,65,6],[44,2,44,6],[46,2,46,6],[55,2,55,4],[56,2,56,4],[52,2,52,6],[38,2,38,6],[60,2,60,4],[54,2,54,4],[48,2,48,6],[16,2,16,6],[19,2,19,6],[20,2,20,6],[33,2,33,6],[35,2,35,6],[31,2,31,6],[59,2,59,4],[42,2,42,6],[50,2,50,6],[40,2,40,6],[26,9,26,13],[27,9,27,13],[28,9,28,13],[29,2,29,6],[30,2,30,6],[57,2,57,4],[58,2,58,4],[37,2,37,6]]}
[]
[]
[]
[]
[]
[null,null,"Deduções por dependentes e ascendentes"]
[]
[null,null,"À coleta do IRS devida pelos sujeitos passivos, é dedutível:"]
[null,null,"a) € 600 por cada dependente"]
[null,null,"b) € 525 por cada ascendente*"]
[]
[null,null,"* O ascendente terá que viver em comunhão de habitação com o sujeito passivo ou o sujeito passivo terá de incorrer em encargos com lares. Em qualquer dos casos o ascendente não pode auferir rendimento superior à pensão mínima do regime geral"]
[]
[null,null,"Deduções por despesas gerais"]
[]
[null,null,"35% do valor suportado por qualquer membro do agregado familiar:"]
[null,null,"● limite global de € 250 para cada sujeito passivo;"]
[null,null,"● a dedução opera no ano em que as faturas foram emitidas;"]
[null,null,"● para beneficiar da dedução os sujeitos passivos devem pedir ao emitente a inclusão do seu número de identificação fiscal nas faturas;"]
[null,null,"● o valor da dedução é apurado com base nas faturas comunicadas à Autoridade Tributária (AT) pelos emitentes até 15 de fevereiro do ano seguinte ao da sua emissão;"]
[null,null,"● caso não haja opção pela tributação conjunta, o limite previsto é reduzido a metade, por sujeito passivo."]
[null,null,"45% do valor suportado por qualquer membro do agregado familiar com o limite global de € 335, nas famílias monoparentais."]
[]
[null,null,"Dedução por despesas de saúde"]
[]
[null,null,"15% do valor suportado por qualquer membro do agregado familiar:"]
[null,null,"● limite global de € 1.000;"]
[null,null,"●  são elegíveis para dedução as faturas que titulem prestações de serviços e aquisições de bens, isentos de IVA ou tributados à taxa reduzida, nas seguintes atividades:"]
[null,null,"     - atividade de saúde humana;"]
[null,null,"     - comércio a retalho de produtos farmacêuticos, em establecimentos especializados;"]
[null,null,"     - comércio a retalho de produtos médicos e ortopédicos, em establecimentos especializados;"]
[null,null," - prémios de seguros de saúde."]
[]
[null,null,"Dedução por despesas com educação"]
[null,null,"ã"]
[null,null,"30% do valor suportado por qualquer membro do agregado familiar com o limite global de € 800, este limite pode ser aumentado em € 200, quando a diferença seja relativa a arrendamento de imóvel ou de parte de imóvel, a membros do agregado familiar que não tenham mais de 25 anos (cuja localização se situe a uma distânica superior a 50 Kms);"]
[]
[null,null,"40% do valor suportado por estudantes que frequentem estabelecimentos de ensino situados em território do interior, caso em que o limite global acima referido é elevado para € 1.000."]
[null,null,"● caso não haja opção pela tributação conjunta, a dedução e o limite acima previstos são reduzidos para metade, por sujeito passivo."]
[]
[null,null,"Despesas com pensões de alimentos e similares"]
[]
[null,null,"20% dos encargos com pensões de alimentos, desde que resultantes de sentença judicial ou acordo judicialmente homologado"]
[]
[null,null,"Encargos com donativos"]
[]
[null,null,"25% dos donativos destinados a igrejas, instituiçoes religiosas, instituições de caridade, museus, escolas, bibliotecas e outras entidades de cariz social, cultural ou científico reconhecidas pelo Estado, até ao limite de 15% da coleta"]
[]
[null,null,"Contribuições para Planos Poupança Reforma (PPR)"]
[]
[null,null,"20% do valor aplicado com o limite de € 300, € 350 ou € 400 consoante a idade do sujeito passivo."]
[]
[null,null,"Taxas IRS"]
[]
[null,null,"Rendimento Coletável (Euros)",null,null,"Taxas","Parcela a abater (Euros)"]
[null,null,"Até 7.091",null,null,"14,5%","0,00"]
[null,null,"De mais de 7.091 até 10.700",null,null,0.23,"602,74"]
[null,null,"De mais de 10.700 até 20.261",null,null,"28,5%","1.191,24"]
[null,null,"De mais de 20.261 até 25.000",null,null,0.35,"2.508,20"]
[null,null,"De mais de 25.000 até 36.856",null,null,0.37,"3.008,20"]
[null,null,"De mais de 36.856 até 80.640",null,null,0.45,"5.956,68"]
[null,null,"Superior a 80.640",null,null,0.48,"8.375,89"]
[]
[null,null,"Cortes na função pública"]
[]
[null,null,"O corte dos funcionários públicos é reposto em 20% em cada trimestre de 2016."]

{"sheet":"BIG SIMULATOR","index":7,"n_rows":311,"n_cols":43,"rows_kept":311,"cut":false,"hidden":true,"merged":[[306,7,306,9],[307,7,307,9],[308,7,308,9],[309,7,309,9],[310,7,310,9],[103,36,103,37],[103,38,105,39],[104,36,104,37],[106,38,106,39],[107,38,107,39],[110,36,110,37],[110,38,112,39],[111,36,111,37],[113,38,113,39],[114,38,114,39],[222,30,222,31],[297,7,297,9],[298,10,298,11],[298,12,298,13],[300,7,300,9],[301,7,301,9],[302,7,302,9],[303,7,303,9],[304,7,304,9],[305,7,305,9],[101,38,101,39],[90,36,90,37],[90,38,92,39],[91,36,91,37],[93,38,93,39],[94,38,94,39],[97,36,97,37],[98,36,98,37],[97,38,99,39],[100,38,100,39],[291,7,291,9],[292,7,292,9],[293,7,293,9],[294,7,294,9],[295,7,295,9],[289,7,289,9],[290,7,290,9],[260,7,260,9],[261,7,261,9],[262,7,262,9],[263,7,263,9],[264,7,264,9],[259,7,259,9],[79,36,79,37],[78,38,80,39],[81,38,81,39],[82,38,82,39],[84,36,84,37],[85,36,85,37],[84,38,86,39],[87,38,87,39],[88,38,88,39],[67,42,69,43],[70,42,70,43],[71,42,71,43],[72,42,74,43],[75,42,75,43],[76,42,76,43],[93,16,93,17],[96,16,96,17],[96,20,98,20],[96,21,98,21],[97,16,97,17],[75,38,75,39],[76,38,76,39],[72,36,72,37],[73,36,73,37],[72,40,74,41],[75,40,75,41],[76,40,76,41],[70,38,70,39],[70,40,70,41],[71,38,71,39],[71,40,71,41],[72,38,74,39],[78,36,78,37],[192,30,192,31],[282,7,282,9],[283,10,283,11],[283,12,283,13],[285,7,285,9],[286,7,286,9],[287,7,287,9],[288,7,288,9],[279,7,279,9],[280,7,280,9],[276,7,276,9],[278,7,278,9],[268,10,268,11],[268,12,268,13],[270,7,270,9],[271,7,271,9],[273,7,273,9],[272,7,272,9],[274,7,274,9],[275,7,275,9],[277,7,277,9],[265,7,265,9],[258,7,258,9],[267,7,267,9],[39,16,39,17],[52,16,52,17],[243,5,243,6],[252,8,252,11],[255,10,255,11],[255,12,255,13],[141,4,141,5],[257,7,257,9],[235,5,235,6],[234,5,234,6],[235,9,235,12],[254,7,254,9],[42,16,42,17],[77,16,77,17],[7,21,9,21],[10,0,10,8],[10,30,10,31],[11,30,11,31],[24,16,24,17],[24,30,24,31],[1,4,1,5],[7,16,8,17],[7,18,9,18],[7,19,9,19],[7,20,9,20],[12,8,14,8],[37,30,37,31],[54,36,54,37],[54,38,56,39],[54,40,56,41],[55,36,55,37],[57,38,57,39],[57,40,57,41],[48,30,48,31],[25,30,25,31],[36,30,36,31],[184,2,190,2],[106,2,106,4],[108,2,108,5],[111,2,114,2],[116,2,119,2],[127,2,127,5],[130,2,136,2],[139,2,145,2],[155,2,160,2],[142,30,142,31],[62,30,62,31],[63,30,63,31],[174,2,180,2],[100,25,100,26],[107,25,107,26],[90,5,90,6],[90,10,90,11],[162,2,167,2],[91,5,91,6],[91,10,91,11],[76,30,76,31],[77,30,77,31],[104,16,104,17],[120,16,120,17],[123,16,123,17],[123,20,125,20],[123,21,125,21],[124,16,124,17],[64,42,64,43],[65,42,65,43],[67,36,67,37],[67,38,69,39],[67,40,69,41],[68,36,68,37],[54,42,56,43],[57,42,57,43],[58,42,58,43],[59,42,59,43],[60,42,62,43],[63,42,63,43],[63,40,63,41],[64,38,64,39],[64,40,64,41],[65,38,65,39],[65,40,65,41],[58,38,58,39],[58,40,58,41],[59,38,59,39],[59,40,59,41],[60,38,62,39],[60,40,62,41],[61,36,61,37],[42,20,44,20],[63,38,63,39],[60,36,60,37],[49,30,49,31],[42,21,44,21],[43,16,43,17],[52,20,54,20],[52,21,54,21],[53,16,53,17],[50,16,50,17],[61,16,61,17]]}
[]
["ANO 2015",null,null,null,null,null,null,null,null,null,"DROP BOX",null,null,"Estado Civil"]
[null,null,{"$f":"IF(AND(C92=2,C95=0),3,IF(AND(C92=2,C95>0),4,IF(AND(C92=1,C95=0),1,2)))","v":1},null,null,null,null,null,null,null,null,null,null,"Solteiro / Viúvo / Divorciado",0]
[null,null,null,null,null,null,null,null,null,null,null,null,null,"Casado / Unido de facto",1]
[]
[null,null,null,null,null,null,null,null,null,null,null,null,null,null,null,null,null,"2013/2014","Continente"]
[null,null,null,null,null,null,null,null,null,null,"DROP BOX",null,null,"Número de Filhos"]
[null,null,null,null,null,null,null,null,null,null,null,null,null,0,null,null,"Rendimento colectável",null,"Taxa","Parcela a abater","Limite das deduções à colecta","Limite do BF",null,null,null,"SOBRETAXA 2013",null,null,null,null,"CES",2012]
[null,null,null,null,null,null,null,null,null,null,null,null,null,1]
[null,null,null,null,null,null,null,null,null,null,null,null,null,2,null,null,"Minimo","Máximo",null,null,null,null,null,null,null,"DESCRIÇÃO - ANUAL",null,"Euros",null,null,"Para pensões superiores a 5,030.64 €"]
[null,null,null,null,null,null,null,null,null,null,null,null,null,3,null,null,0,4898,0.115,0,9.9999999999999902E+42,9.9999999999999902E+42,null,null,null,null,null,null,null,null,"Pensão bruta mensal",null,"Taxa","Parcela "]
[null,null,null,null,null,null,null,null,null,null,null,null,null,4,null,null,{"$f":"R11","v":4898},7410,0.14000000000000001,122.45000000000005,9.9999999999999902E+42,9.9999999999999902E+42,null,null,null,null,null,null,null,null,"(Euros)",null,"(%)","Abater"]
[null,"DESCRIÇÃO",null,2012,null,2013,2014,2015,"Cálculo auxiliar com o novo rendimento coletável",2016,2017,2018,null,5,null,null,{"$f":"R12","v":7410},18375,0.245,900.46,{"$f":"1250+(1250*0.1*$C$95)","v":1250},100,null,null,null,"RENDIMENTO BRUTO",null,{"$f":"F22","v":0},null,null,"De","Até",null,"(Euros)"]
[null,null,null,null,null,null,null,null,null,null,null,null,null,null,null,null,{"$f":"R13","v":18375},42259,0.35499999999999998,2921.81,{"$f":"1200++(1200*0.1*$C$95)","v":1200},80,null,null,null,"TOTAL ",null,{"$f":"+AB13","v":0},null,null,0,5030.6400000000003,0,0]
[null,null,null,null,null,null,null,null,null,null,null,null,null,"Número de Ascendentes",null,null,{"$f":"R14","v":42259},61244,0.38,3978.26,{"$f":"1150+(1150*0.1*$C$95)","v":1150},60,null,null,null,null,null,null,null,null,{"$f":"12*419.22","v":5030.6400000000003},{"$f":"18*419.22","v":7545.9600000000009},0.25,{"$f":"ROUND(0.25*AE15,2)","v":1257.6600000000001}]
[null,"RENDIMENTO BRUTO",null,null,null,null,null,null,null,null,null,null,null,0,0,null,61244,66045,0.41499999999999998,6121.95,{"$f":"1100+(1100*0.1*$C$95)","v":1100},50,null,null,null,"DEDUÇÕES ESPECÍFICAS",null,{"$f":"F29","v":0},null,null,{"$f":"AF15","v":7545.9600000000009},99999999999,0.5,{"$f":"ROUND((AG16-AG15)*AF15+AH15,2)","v":3144.15}]
[null,"TRABALHO DEPENDENTE - PRIVADO",null,{"$f":"IF(#REF!=1,IF(C93=1,#REF!,AF47),0)","v":{"$error":"#REF!"}},null,{"$f":"I122","v":0},{"$f":"J122","v":0},{"$f":"K122","v":0},null,{"$f":"L122","v":0},{"$f":"M122","v":0},{"$f":"N122","v":0},null,1,1]
[null,"TRABALHO DEPENDENTE - FUNÇÃO PUBLICA",null,{"$f":"IF(#REF!=2,#REF!,0)","v":{"$error":"#REF!"}},null,{"$f":"I148","v":0},{"$f":"J148","v":0},{"$f":"K148","v":0},null,{"$f":"L148","v":0},{"$f":"M148","v":0},{"$f":"N148","v":0},null,2,2]
[null,"TRABALHO INDEPENDENTE",null,null,null,null,null,null,null,null,null,null,null,3,3,null,{"$f":"R16","v":66045},153300,0.435,7442.61,0,50]
[null,"PENSÕES DE VELHIÇE",null,null,null,{"$f":"H193","v":0},{"$f":"I193","v":0},{"$f":"J193","v":0},null,{"$f":"K193","v":0},{"$f":"L193","v":0},{"$f":"M193","v":0},null,4,4,null,153300,null,0.46500000000000002,12041.72,0,0,null,null,null,"RENDIMENTO LÍQUIDO/COLECTÁVEL",null,{"$f":"AB14+AB16","v":0},null,{"$f":"AB20-F31","v":0}]
[null,"PENSÕES DE SOBREVIVÊNCIA",null,{"$f":"IF(#REF!=3,AG47,0)","v":{"$error":"#REF!"}}]
[null,"TOTAL ",null,{"$f":"SUBTOTAL(109,D17:D21)","v":{"$error":"#REF!"}},null,{"$f":"SUBTOTAL(109,F17:F21)","v":0},{"$f":"SUBTOTAL(109,G17:G21)","v":0},{"$f":"SUBTOTAL(109,H17:H21)","v":0},null,{"$f":"SUBTOTAL(109,J17:J21)","v":0},{"$f":"SUBTOTAL(109,K17:K21)","v":0},{"$f":"SUBTOTAL(109,L17:L21)","v":0},null,null,null,null,null,null,null,null,null,null,null,null,null,"RMMG (485 x 14 )",null,{"$f":"-6790*C92","v":-6790},null,null,"CES","2013 e 2014"]
[null,null,null,null,null,null,null,null,null,null,null,null,null,"Tributação conjunta",1]
[null,"DEDUÇÕES ESPECÍFICAS",null,null,null,null,null,null,null,null,null,null,null,"Tributação separada",2,null,null,null,null,null,null,null,null,null,null,"RENDIMENTO PARA EFEITOS DE SOBRETAXA",null,{"$f":"IF(+AB20+AB22<0,0,+AB20+AB22)","v":0},null,null,"Para pensões superiores a 1,000.00 € (OE RECTIFICATIVO)"]
[null,"TRABALHO DEPENDENTE - PRIVADO",null,{"$f":"-IF(IF(0.11*D17>$C$94*4104,0.11*D17,4104*$C$94)>D17,D17,IF(0.11*D17>$C$94*4104,0.11*D17,4104*$C$94))","v":{"$error":"#REF!"}},null,{"$f":"-I124","v":0},{"$f":"-J124","v":0},{"$f":"-K124","v":0},null,{"$f":"-L124","v":0},{"$f":"-M124","v":0},{"$f":"-N124","v":0},null,null,null,null,"2013, 2014 e 2015",null,"Continente",null,null,null,null,null,null,null,null,null,null,null,"Pensão bruta mensal",null,"Taxa","Parcela "]
[null,"TRABALHO DEPENDENTE - FUNÇÃO PUBLICA",null,{"$f":"D18*0.3","v":{"$error":"#REF!"}},null,{"$f":"-I150","v":0},{"$f":"-J150","v":0},{"$f":"-K150","v":0},null,{"$f":"-L150","v":0},{"$f":"-M150","v":0},{"$f":"-N150","v":0},null,null,null,null,null,null,null,null,null,null,null,null,null,"SOBRETAXA A PAGAR (3.5%)",null,{"$f":"AB24*0.035","v":0},null,null,"(Euros)",null,"(%)","Abater"]
[null,"TRABALHO INDEPENDENTE",null,null,null,null,null,null,null,null,null,null,null,null,null,null,"Rendimento colectável",null,"Taxa","Parcela ","Limite das deduções à colecta","Limite do BF",null,null,null,null,null,null,null,null,"De","Até",null,"(Euros)"]
[null,"PENSÕES",null,{"$f":"-IF(D21<=4104*$C$94,D21,IF(AND(D21>4104*$C$94,D21<22500*$C$94),4104*$C$94,IF((4104*$C$94-(D21-22500*$C$94)*0.2)>0,(4104*$C$94-(D21-22500*$C$94)*0.2),0)))","v":{"$error":"#REF!"}},null,{"$f":"-H195","v":0},{"$f":"-I195","v":0},{"$f":"-J195","v":0},null,{"$f":"-K195","v":0},{"$f":"-L195","v":0},{"$f":"-M195","v":0},null,null,null,null,"(Euros)",null,"(%)","Abater",null,null,null,null,null,"DEDUÇÃO À COLECTA POR FILHOS",null,{"$f":"IF(AB24=0,0,-12.13*C95)","v":0},null,null,1000,1800,3.5000000000000003E-2,0]
[null,"TOTAL",null,{"$f":"SUBTOTAL(109,D24:D28)","v":{"$error":"#REF!"}},null,{"$f":"SUBTOTAL(109,F24:F28)","v":0},{"$f":"SUBTOTAL(109,G24:G28)","v":0},{"$f":"SUBTOTAL(109,H24:H28)","v":0},null,{"$f":"SUBTOTAL(109,J24:J28)","v":0},{"$f":"SUBTOTAL(109,K24:K28)","v":0},{"$f":"SUBTOTAL(109,L24:L28)","v":0},null,null,null,null,"De","Até",null,"(Euros)",null,null,null,null,null,null,null,null,null,null,1800,3750,0.16,{"$f":"ROUND(+(AG29-AG28)*AF28+AH28,2)","v":225}]
[null,null,null,null,null,null,null,null,null,null,null,null,null,null,"z",null,0,7000,0.14499999999999999,0,9.9999999999999902E+42,9.9999999999999902E+42,null,null,null,"TOTAL A PAGAR",null,{"$f":"+IF((AB26+AB28)<0,0,(AB26+AB28))","v":0},null,null,3750,9999999999990,0.1,0]
[null,"RENDIMENTO LÍQUIDO/COLECTÁVEL",null,{"$f":"D22+D29","v":{"$error":"#REF!"}},null,{"$f":"F22+F29","v":0},{"$f":"G22+G29","v":0},{"$f":"H22+H29","v":0},null,{"$f":"J22+J29","v":0},{"$f":"K22+K29","v":0},{"$f":"L22+L29","v":0},null,null,null,null,{"$f":"R30","v":7000},20000,0.28499999999999998,{"$f":"+(S31-S30)*R30+T30","v":979.99999999999989},{"$f":"1250+(1250*0.1*$C$95)","v":1250},100]
[]
[null,"DESPESAS EDUCAÇÃO",null,null,null,0,0]
[]
[null,"RENDIMENTO LÍQUIDO APÓS DEDUÇÃO EDUCAÇÃO",null,null,null,{"$f":"+F31","v":0},{"$f":"+G31","v":0},{"$f":"+IF(H31=0,0,H31-H33)","v":0},{"$f":"+H35","v":0},{"$f":"+IF(J31=0,0,J31-J33)","v":0},{"$f":"+IF(K31=0,0,K31-K33)","v":0},{"$f":"+IF(L31=0,0,L31-L33)","v":0}]
[null,null,null,null,null,null,null,null,null,null,null,null,null,null,null,null,20000,40000,0.37,{"$f":"+(S36-S31)*R31+T31","v":2680.0000000000005},{"$f":"1000+(1000*0.1*$C$95)","v":1000},80,null,null,null,null,null,null,null,null,"Para pensões superiores a 4,611.42 €"]
[null,"CÁLCULO DO IMPOSTO:",null,null,null,null,null,null,null,null,null,null,null,null,null,null,{"$f":"R36","v":40000},80000,0.45,{"$f":"+(S37-S36)*R36+T36","v":5880.0000000000009},{"$f":"500+(500*0.1*$C$95)","v":500},60,null,null,null,null,null,null,null,null,"Pensão bruta mensal",null,"Taxa","Parcela "]
[null,"    COEFICIENTE CONJUGAL",null,{"$f":"IF(C92=2,#REF!/2,#REF!)","v":{"$error":"#REF!"}},null,{"$f":"IF((IF(C92=2,F31/2,F31))<0,0,IF(C92=2,F31/2,F31))","v":0},{"$f":"IF((IF(C92=2,G31/2,G31))<0,0,IF(C92=2,G31/2,G31))","v":0},{"$f":"H35/G240","v":0},{"$f":"IF(C92=1,I35,IF(AND(C92=2,C101=2),I35,I35/2))","v":0},{"$f":"IF((IF(C92=1,J31,IF(AND(C101=2,C92=2),J31,J31/2)))<0,0,(IF(C92=1,J31,IF(AND(C101=2,C92=2),J31,J31/2))))","v":0},{"$f":"IF((IF(C92=1,K31,IF(AND(C101=2,C92=2),K31,K31/2)))<0,0,(IF(C92=1,K31,IF(AND(C101=2,C92=2),K31,K31/2))))","v":0},{"$f":"IF((IF(C92=1,L31,IF(AND(C101=2,C92=2),L31,L31/2)))<0,0,(IF(C92=1,L31,IF(AND(C101=2,C92=2),L31,L31/2))))","v":0},null,null,null,null,{"$f":"R37","v":80000},99999999999,0.48,{"$f":"+(S38-S37)*R37+T37","v":8279.9999999999982},0,0,null,null,null,null,null,null,null,null,"(Euros)",null,"(%)","Abater"]
[null,"    TAXA A APLICAR",null,{"$f":"VLOOKUP(#REF!,Q11:S20,3,TRUE)","v":{"$error":"#REF!"}},null,{"$f":"VLOOKUP(F38,Q30:T38,3,TRUE)","v":0.14499999999999999},{"$f":"VLOOKUP(G38,Q30:T38,3,TRUE)","v":0.14499999999999999},{"$f":"VLOOKUP(H38,Q30:T38,3,TRUE)","v":0.14499999999999999},{"$f":"VLOOKUP(I38,Q30:T38,3,TRUE)","v":0.14499999999999999},{"$f":"VLOOKUP(J38,Q67:T75,3,TRUE)","v":0.14499999999999999},{"$f":"VLOOKUP(K38,Q83:T91,3,TRUE)","v":0.14499999999999999},{"$f":"VLOOKUP(L38,Q110:T118,3,TRUE)","v":0.14499999999999999},null,null,null,null,null,null,null,null,null,null,null,null,null,"SOBRETAXA 2014",null,null,null,null,"De","Até",null,"(Euros)"]
[null,{"$f":"\"     TAXA DE \"&F39*100&\" %\"","v":"     TAXA DE 14.5 %"},null,{"$f":"IFERROR(ROUND(D39*D38,2),\"\")","v":""},null,{"$f":"IFERROR(ROUND(F39*F38,2),\"\")","v":0},0,0,0,0,0,{"$f":"IFERROR(ROUND(L39*L38,2),\"\")","v":0},null,null,null,null,2016,null,null,null,null,null,null,null,null,null,null,null,null,null,0,{"$f":"AE41","v":4611.42},0,0]
[null,"    PARCELA A ABATER",null,{"$f":"-VLOOKUP(#REF!,Q11:T20,4,TRUE)","v":{"$error":"#REF!"}},null,{"$f":"-VLOOKUP(F38,Q30:T38,4,TRUE)","v":0},{"$f":"-VLOOKUP(G38,Q30:T38,4,TRUE)","v":0},{"$f":"-VLOOKUP(H38,Q30:T38,4,TRUE)","v":0},{"$f":"-VLOOKUP(I38,Q30:T38,4,TRUE)","v":0},{"$f":"-VLOOKUP(J38,Q67:T75,4,TRUE)","v":0},{"$f":"-VLOOKUP(K38,Q83:T91,4,TRUE)","v":0},{"$f":"-VLOOKUP(L38,Q110:T118,4,TRUE)","v":0},null,null,null,null,null,null,null,null,null,null,null,null,null,"DESCRIÇÃO - ANUAL",null,"Euros",null,null,4611.42,7126.74,0.15,{"$f":"ROUND(0.15*AE41,2)","v":691.71}]
[null,null,null,null,null,null,null,null,null,null,null,null,null,null,null,null,null,null,null,null,null,null,null,null,null,null,null,null,null,null,{"$f":"AF41","v":7126.74},99999999999,0.4,{"$f":"ROUND((AG42-AG41)*AF41+AH41,2)","v":2473.4}]
[null,"     SUB-TOTAL",null,{"$f":"IFERROR(ROUND((D40+D41),2),\"\")","v":""},null,{"$f":"IFERROR(ROUND((F40+F41),2),\"\")","v":0},0,0,0,0,{"$f":"IFERROR(ROUND((K40+K41),2),\"\")","v":0},{"$f":"IFERROR(ROUND((L40+L41),2),\"\")","v":0},null,null,null,null,"Rendimento colectável",null,"Taxa","Parcela ","Limite das deduções à colecta","Limite do BF"]
[null,null,null,null,null,null,null,null,null,null,null,null,null,null,null,null,"(Euros)",null,"(%)","Abater",null,null,null,null,null,"RENDIMENTO BRUTO",null,{"$f":"$G$22","v":0}]
[null,"COLECTA LÍQUIDA ",null,{"$f":"IF(C92=2,D43*2,D43)","v":""},null,{"$f":"IF(C92=2,F43*2,F43)","v":0},{"$f":"IF(C92=2,G43*2,G43)","v":0},{"$f":"IF((I45-(H43*G240))>J242,(I45-J242),H43*G240)","v":0},{"$f":"IF(C92=1,I43,IF(AND(C92=2,C101=2),I43,I43*2))","v":0},{"$f":"IF(C92=1,J43,IF(AND(C92=2,C101=1),J43*2,J43))","v":0},{"$f":"IF(C92=1,K43,IF(AND(C92=2,C101=1),K43*2,K43))","v":0},{"$f":"ROUND(IF(C92=1,L43,IF(AND(C92=2,C101=1),L43*2,L43)),2)","v":0},null,null,null,null,"De","Até",null,"(Euros)",null,null,null,null,null,"TOTAL ",null,{"$f":"+AB44","v":0}]
[null,null,null,null,null,null,null,null,null,null,null,null,null,null,null,null,0,7035,0.14499999999999999,0,9.9999999999999902E+42,9.9999999999999902E+42,null,null,null,null,null,null,null,null,"CES",2015]
[null,"DEDUÇÕES À COLECTA",null,null,null,null,null,null,null,null,null,null,null,null,null,null,{"$f":"R46","v":7035},80000,0.28499999999999998,{"$f":"+(S47-S46)*R46+T46","v":984.89999999999986},{"$f":"IF(C95>=3,(1000+((2500-1000)*((Q48-J38)/(Q48-R46))))*(1+(0.05*C95)),(1000+((2500-1000)*((Q48-J38)/(Q48-R46)))))","v":2644.6241348591789},100,null,null,null,"DEDUÇÕES ESPECÍFICAS",null,{"$f":"$G$29","v":0}]
[null,"DEDUÇÕES PESSOAIS",null,{"$f":"-IF(C92=2,522.5+C95*190,IF(C95=0,261.25,380+C95*190))","v":-261.25},null,{"$f":"-H215-H216","v":-213.75},{"$f":"-I215-I216","v":-213.75},{"$f":"-J215-J216","v":0},null,{"$f":"-K215-K216","v":0},{"$f":"-L215-L216","v":0},{"$f":"-M215-M216","v":0},null,null,null,null,80000,9.9999999999999904E+23,null,null,{"$f":"IF(C95>=3,1000*(1+(0.05*C95)),1000)","v":1000},null,null,null,null,null,null,null,null,null,"Para pensões superiores a 4,611.42 €"]
[null,null,null,null,null,null,null,null,null,null,null,null,null,null,null,null,null,null,null,null,null,null,null,null,null,"RENDIMENTO LÍQUIDO/COLECTÁVEL",null,{"$f":"AB45+AB47","v":0},null,null,"Pensão bruta mensal",null,"Taxa","Parcela "]
[null,"DESPESAS DE SAÚDE",null,null,null,{"$f":"-IF(C95>2,IF(H91*0.1>838.44+(C95*125.77),838.44+(C95*125.77),0.1*H91),IF(H91*0.1>838.44,838.44,0.1*H91))","v":0},{"$f":"-IF(C95>2,IF(H91*0.1>838.44+(C95*125.77),838.44+(C95*125.77),0.1*H91),IF(H91*0.1>838.44,838.44,0.1*H91))","v":0},{"$f":"-IF(C92=1,IF(H91*0.15>1000,1000,0.15*H91),IF(C101=2,IF(H91*0.075>500,500,0.075*H91),IF(H91*0.15>1000,1000,0.15*H91)))","v":0},null,{"$f":"-IF(C92=1,IF(H91*0.15>1000,1000,0.15*H91),IF(C101=2,IF(H91*0.075>500,500,0.075*H91),IF(H91*0.15>1000,1000,0.15*H91)))","v":0},{"$f":"-IF(C92=1,IF(H91*0.15>1000,1000,0.15*H91),IF(C101=2,IF(H91*0.075>500,500,0.075*H91),IF(H91*0.15>1000,1000,0.15*H91)))","v":0},{"$f":"-IF(C92=1,IF(H91*0.15>1000,1000,0.15*H91),IF(C101=2,IF(H91*0.075>500,500,0.075*H91),IF(H91*0.15>1000,1000,0.15*H91)))","v":0},null,null,null,null,null,null,null,null,null,null,null,null,null,null,null,null,null,null,"(Euros)",null,"(%)","Abater"]
[null,"DESPESAS DE EDUCAÇÃO",null,null,null,{"$f":"-IF(C97>2,IF(H92*0.3>760+(C97*142.5),760+(C97*142.5),0.3*H92),IF(H92*0.3>760,760,0.3*H92))","v":0},{"$f":"-IF(C97>2,IF(H92*0.3>760+(C97*142.5),760+(C97*142.5),0.3*H92),IF(H92*0.3>760,760,0.3*H92))","v":0},{"$f":"-IF($C$92=1,IF($H$92*0.3>800,800,0.3*$H$92),IF($C$101=2,IF($H$92*0.15>400,400,0.15*$H$92),IF($H$92*0.3>800,800,0.3*$H$92)))","v":0},null,{"$f":"-IF($C$92=1,IF($H$92*0.3>800,800,0.3*$H$92),IF($C$101=2,IF($H$92*0.15>400,400,0.15*$H$92),IF($H$92*0.3>800,800,0.3*$H$92)))","v":0},{"$f":"-IF($C$92=1,IF($H$92*0.3>800,800,0.3*$H$92),IF($C$101=2,IF($H$92*0.15>400,400,0.15*$H$92),IF($H$92*0.3>800,800,0.3*$H$92)))","v":0},{"$f":"-IF($C$92=1,IF((H92*0.3)+(I92*0.3)>I101,I101,(H92*0.3)+(I92*0.3)),IF($C$101=2,IF(((H92*0.15)+(I92*0.15))>I101/2,I101/2,(H92*0.15)+(I92*0.15)),IF((H92*0.3)+(I92*0.3)>I101,I101,(H92*0.3)+(I92*0.3))))","v":0},null,null,null,null,2015,null,null,null,null,null,null,null,null,"RMMG (485 x 14 )",null,{"$f":"-6790*$C$92","v":-6790},null,null,"De","Até",null,"(Euros)"]
[null,"ENCARGOS COM IMÓVEIS - JUROS",null,null,null,{"$f":"-IF(C100<=2011,IF(0.15*H93>VLOOKUP(F38,AK64:AN66,3,TRUE),VLOOKUP(F38,AK64:AN66,3,TRUE),0.15*H93),0)","v":0},{"$f":"-IF(C100<=2011,IF('Simular IRS 2019'!O51<2011,IF(0.15*H93>VLOOKUP(G38,AK64:AP66,5,TRUE),VLOOKUP(G38,AK64:AP66,5,TRUE),0.15*H93),0),0)","v":0},{"$f":"-IF($C$100<=2011,IF(H38>30000,IF($H$93*0.15>296,296,$H$93*0.15),IF(0.15*$H$93>VLOOKUP(H38,$AK$76:$AP$77,3,TRUE),VLOOKUP(H38,AK76:AP77,3,TRUE),0.15*$H$93)),0)","v":0},null,{"$f":"-IF($C$100<=2011,IF(J38>30000,IF($H$93*0.15>296,296,$H$93*0.15),IF(0.15*$H$93>VLOOKUP(J38,$AK$82:$AN$83,3,TRUE),VLOOKUP(J38,AK82:AN83,3,TRUE),0.15*$H$93)),0)","v":0},{"$f":"-IF(C100<=2011,IF(K38>30000,IF($H$93*0.15>296,296,$H$93*0.15),IF(0.15*$H$93>VLOOKUP(K38,$AK$101:$AN$102,3,TRUE),VLOOKUP(K38,AK101:AN102,3,TRUE),0.15*$H$93)),0)","v":0},{"$f":"-IF(C100<=2011,IF(L38>30000,IF($H$93*0.15>296,296,$H$93*0.15),IF(0.15*$H$93>VLOOKUP(L38,$AK$114:$AN$115,3,TRUE),VLOOKUP(L38,AK114:AN115,3,TRUE),0.15*$H$93)),0)","v":0},null,null,null,null,null,null,null,null,null,null,null,null,null,null,null,null,null,null,0,4611.42,0,0]
[null,"RENDAS",null,null,null,{"$f":"-IF(0.15*H94>VLOOKUP(F38,AK58:AP60,3),VLOOKUP(F38,AK58:AP60,3),0.15*H94)","v":0},{"$f":"-IF(0.15*H94>VLOOKUP(G38,AK58:AP60,5),VLOOKUP(G38,AK58:AP60,5),0.15*H94)","v":0},{"$f":"-IF(C100<=2011,IF(H38>30000,IF(H94*0.15>502,502,H94*0.15),IF(0.15*H94>VLOOKUP(H38,AK71:AP72,3,TRUE),VLOOKUP(H38,AK71:AP72,3,TRUE),0.15*H94)),0)","v":0},null,{"$f":"-IF(C92<>\"\",IF(J38>30000,IF(H94*0.15>502,502,H94*0.15),IF(0.15*H94>VLOOKUP(J38,AK71:AP72,5,TRUE),VLOOKUP(J38,AK71:AP72,5,TRUE),0.15*H94)),0)","v":0},{"$f":"-IF(C92<>\"\",IF(K38>30000,IF(H94*0.15>502,502,H94*0.15),IF(0.15*H94>VLOOKUP(K38,AK94:AN95,3,TRUE),VLOOKUP(K38,AK94:AN95,3,TRUE),0.15*H94)),0)","v":0},{"$f":"-IF(H94<>\"\",IF(L38>30000,IF(H94*0.15>502,502,H94*0.15),IF(0.15*H94>VLOOKUP(L38,AK107:AN108,3,TRUE),VLOOKUP(L38,AK107:AN108,3,TRUE),0.15*H94)),0)","v":0},null,null,null,null,"Rendimento colectável",null,"Taxa","Parcela ","Limite das deduções à colecta","Limite do BF",null,null,null,null,null,null,null,null,4611.42,7126.74,0.15,{"$f":"ROUND(0.15*AE53,2)","v":691.71}]
[null,"DESPESAS GERAIS",null,null,null,null,null,{"$f":"-IF(C92=1,IF(C95<>0,IF(0.45*H96>335,335,0.45*H96),IF(0.35*H96>250,250,0.35*H96)),IF(C101=1,IF(0.35*H96>500,500,0.35*H96),IF(0.35*H96>250,250,0.35*H96)))","v":0},null,{"$f":"-IF(C92=1,IF(C95<>0,IF(0.45*H96>335,335,0.45*H96),IF(0.35*H96>250,250,0.35*H96)),IF(C101=1,IF(0.35*H96>500,500,0.35*H96),IF(0.35*H96>250,250,0.35*H96)))","v":0},{"$f":"-IF(C92=1,IF(C95<>0,IF(0.45*H96>335,335,0.45*H96),IF(0.35*H96>250,250,0.35*H96)),IF(C101=1,IF(0.35*H96>500,500,0.35*H96),IF(0.35*H96>250,250,0.35*H96)))","v":0},{"$f":"-IF(C92=1,IF(C95<>0,IF(0.45*H96>335,335,0.45*H96),IF(0.35*H96>250,250,0.35*H96)),IF(C101=1,IF(0.35*H96>500,500,0.35*H96),IF(0.35*H96>250,250,0.35*H96)))","v":0},null,null,null,null,"(Euros)",null,"(%)","Abater",null,null,null,null,null,null,null,null,null,null,{"$f":"AF53","v":7126.74},99999999999,0.4,{"$f":"ROUND((AG54-AG53)*AF53+AH53,2)","v":2473.4}]
[null,"PENSÃO DE ALIMENTOS",null,null,null,{"$f":"-IF(0.2*H95>419.22*12*C99,419.22*12*C99,0.2*H95)","v":0},{"$f":"-IF(0.2*H95>419.22*12*C99,419.22*12*C99,0.2*H95)","v":0},{"$f":"-0.2*H95","v":0},null,{"$f":"-0.2*H95","v":0},{"$f":"-0.2*H95","v":0},{"$f":"-0.2*H95","v":0},null,null,null,null,"De","Até",null,"(Euros)",null,null,null,null,null,"RENDIMENTO PARA EFEITOS DE SOBRETAXA",null,{"$f":"IF(+AB49+AB51<0,0,+AB49+AB51)","v":0},null,null,null,null,null,null,null,null,"Rendimento colectável",null,"Limite Dedução Rendas 2013",null,"Limite Dedução Rendas 2014"]
[null,"TOTAL (SAUDE; EDUCAÇÃO; IMOVEIS; RENDAS; PENSÕES DE ALIMENTOS)",null,{"$f":"SUM(D50:D55)","v":0},null,{"$f":"SUM(F50:F55)","v":0},{"$f":"SUM(G50:G55)","v":0},{"$f":"SUM(H50:H55)","v":0},null,{"$f":"SUM(J50:J55)","v":0},{"$f":"SUM(K50:K55)","v":0},{"$f":"SUM(L50:L55)","v":0},null,null,null,null,0,7000,0.14499999999999999,0,9.9999999999999902E+42,9.9999999999999902E+42,null,null,null,null,null,null,null,null,null,null,null,null,null,null,"(Euros)"]
[null,null,null,null,null,null,null,null,null,null,null,null,null,null,null,null,{"$f":"R56","v":7000},80000,0.28499999999999998,{"$f":"+(S57-S56)*R56+T56","v":979.99999999999989},{"$f":"IF(C95>=3,(1000+((2500-1000)*((80000-H38)/(80000-7000))))*(1+(0.05*C95)),(1000+((2500-1000)*((80000-H38)/(80000-7000)))))","v":2643.8356164383558},100,null,null,null,"SOBRETAXA A PAGAR (3.5%)",null,{"$f":"IF(AB55*0.035<0,0,AB55*0.035)","v":0},null,null,null,null,null,null,null,null,"De","Até"]
[null,"LIMITE OU SOMA",null,null,null,{"$f":"IF(-VLOOKUP(F38,Q30:U38,5,TRUE)<F56,F56,-VLOOKUP(F38,Q30:U38,5,TRUE))","v":0},{"$f":"IF(-VLOOKUP(G38,Q30:U38,5,TRUE)<G56,G56,-VLOOKUP(G38,Q30:U38,5,TRUE))","v":0},{"$f":"IF(-VLOOKUP(H38,$Q$56:$U$58,5,TRUE)>(H56-H54+H63),-VLOOKUP(H38,$Q$56:$U$58,5,TRUE),(H56-H54+H63))","v":0},null,{"$f":"IF(-VLOOKUP(J38,$Q$46:$U$48,5,TRUE)>(J56-J54+J63),-VLOOKUP(J38,$Q$46:$U$48,5,TRUE),(J56-J54+J63))","v":0},{"$f":"IF(-VLOOKUP(K38,$Q$100:$U$102,5,TRUE)>(K56-K54+K63),-VLOOKUP(K38,$Q$100:$U$102,5,TRUE),(K56-K54+K63))","v":0},{"$f":"IF(-VLOOKUP(L38,$Q$127:$U$129,5,TRUE)>(L56-L54+L63),-VLOOKUP(L38,$Q$127:$U$129,5,TRUE),(L56-L54+L63))","v":0},null,null,null,null,80000,9.9999999999999904E+23,null,null,{"$f":"IF(C95>=3,1000*(1+(0.05*C95)),1000)","v":1000},null,null,null,null,null,null,null,null,null,"IAS",419.22,null,null,null,null,0,7000,{"$f":"AM60*1.5","v":753},null,{"$f":"AO60*1.5","v":621}]
[null,null,null,null,null,null,null,null,null,null,null,null,null,null,null,null,null,null,null,null,null,null,null,null,null,"DEDUÇÃO À COLECTA POR FILHOS",null,{"$f":"IF(AB55=0,0,-12.13*$C$95)","v":0},null,null,null,null,null,null,null,null,{"$f":"AL58","v":7000},20000,{"$f":"AM60*1.2","v":602.4},null,{"$f":"AO60*1.2","v":496.79999999999995}]
[null,"SEGUROS DE SAÚDE",null,null,null,{"$f":"-IF((0.1*H97)>(50*C92)+(25*C95),(50*C92)+(25*C95),(0.1*H97))","v":0},{"$f":"-IF((0.1*H97)>(50*C92)+(25*C95),(50*C92)+(25*C95),(0.1*H97))","v":0},null,null,null,null,null,null,null,null,null,null,null,null,null,null,null,null,null,null,null,null,null,null,null,"CES",2016,null,null,null,null,20000,999999999,{"$f":"ROUNDDOWN(591*0.85,0)","v":502},null,{"$f":"ROUNDUP(591*0.7,0)","v":414}]
[null,"CONTRIBUIÇÕES PARA PPR",null,null,null,{"$f":"-IF((0.2*H100)>(400),(400),(0.2*H100))-IF((0.2*H99)>(400),(400),(0.2*H99))","v":0},{"$f":"-IF((0.2*H100)>(400),(400),(0.2*H100))-IF((0.2*H99)>(400),(400),(0.2*H99))","v":0},{"$f":"-IF('Simular IRS 2019'!F12<35,IF(0.2*'BIG SIMULATOR'!H99>400,400,0.2*'BIG SIMULATOR'!H99),IF(AND('Simular IRS 2019'!F12>=35,'Simular IRS 2019'!F12<=50),IF(0.2*'BIG SIMULATOR'!H99>350,350,0.2*'BIG SIMULATOR'!H99),IF(0.2*'BIG SIMULATOR'!H99>300,300,0.2*'BIG SIMULATOR'!H99)))+IF('Simular IRS 2019'!F14<35,IF(0.2*'BIG SIMULATOR'!H100>400,400,0.2*'BIG SIMULATOR'!H100),IF(AND('Simular IRS 2019'!F14>=35,'Simular IRS 2019'!F14<=50),IF(0.2*'BIG SIMULATOR'!H100>350,350,0.2*'BIG SIMULATOR'!H100),IF(0.2*'BIG SIMULATOR'!H100>300,300,0.2*'BIG SIMULATOR'!H100)))","v":0},null,{"$f":"-IF('Simular IRS 2019'!F12<35,IF(0.2*'BIG SIMULATOR'!H99>400,400,0.2*'BIG SIMULATOR'!H99),IF(AND('Simular IRS 2019'!F12>=35,'Simular IRS 2019'!F12<=50),IF(0.2*'BIG SIMULATOR'!H99>350,350,0.2*'BIG SIMULATOR'!H99),IF(0.2*'BIG SIMULATOR'!H99>300,300,0.2*'BIG SIMULATOR'!H99)))+IF('Simular IRS 2019'!F14<35,IF(0.2*'BIG SIMULATOR'!H100>400,400,0.2*'BIG SIMULATOR'!H100),IF(AND('Simular IRS 2019'!F14>=35,'Simular IRS 2019'!F14<=50),IF(0.2*'BIG SIMULATOR'!H100>350,350,0.2*'BIG SIMULATOR'!H100),IF(0.2*'BIG SIMULATOR'!H100>300,300,0.2*'BIG SIMULATOR'!H100)))","v":0},{"$f":"-IF('Simular IRS 2019'!F12<35,IF(0.2*'BIG SIMULATOR'!H99>400,400,0.2*'BIG SIMULATOR'!H99),IF(AND('Simular IRS 2019'!F12>=35,'Simular IRS 2019'!F12<=50),IF(0.2*'BIG SIMULATOR'!H99>350,350,0.2*'BIG SIMULATOR'!H99),IF(0.2*'BIG SIMULATOR'!H99>300,300,0.2*'BIG SIMULATOR'!H99)))+IF('Simular IRS 2019'!F14<35,IF(0.2*'BIG SIMULATOR'!H100>400,400,0.2*'BIG SIMULATOR'!H100),IF(AND('Simular IRS 2019'!F14>=35,'Simular IRS 2019'!F14<=50),IF(0.2*'BIG SIMULATOR'!H100>350,350,0.2*'BIG SIMULATOR'!H100),IF(0.2*'BIG SIMULATOR'!H100>300,300,0.2*'BIG SIMULATOR'!H100)))","v":0},{"$f":"-IF('Simular IRS 2019'!F12<35,IF(0.2*'BIG SIMULATOR'!H99>400,400,0.2*'BIG SIMULATOR'!H99),IF(AND('Simular IRS 2019'!F12>=35,'Simular IRS 2019'!F12<=50),IF(0.2*'BIG SIMULATOR'!H99>350,350,0.2*'BIG SIMULATOR'!H99),IF(0.2*'BIG SIMULATOR'!H99>300,300,0.2*'BIG SIMULATOR'!H99)))+IF('Simular IRS 2019'!F14<35,IF(0.2*'BIG SIMULATOR'!H100>400,400,0.2*'BIG SIMULATOR'!H100),IF(AND('Simular IRS 2019'!F14>=35,'Simular IRS 2019'!F14<=50),IF(0.2*'BIG SIMULATOR'!H100>350,350,0.2*'BIG SIMULATOR'!H100),IF(0.2*'BIG SIMULATOR'!H100>300,300,0.2*'BIG SIMULATOR'!H100)))","v":0},null,null,null,null,null,null,null,null,null,null,null,null,null,"TOTAL A PAGAR",null,{"$f":"+IF((AB57+AB59)<0,0,AB57+AB59)","v":0},null,null,null,null,null,null,null,null,"Rendimento colectável",null,"Limite Dedução Juros 2013",null,"Limite Dedução Juros 2014"]
[null,"ENCARGOS COM DONATIVOS",null,null,null,{"$f":"IF(0.25*H101*1.3>0.15*F45,-0.15*F45,-0.25*H101*1.3)","v":0},{"$f":"IF(0.25*H101*1.3>0.15*G45,-0.15*G45,-0.25*H101*1.3)","v":0},{"$f":"IF(0.25*H101*1.3>0.15*H45,-0.15*H45,-0.25*H101*1.3)","v":0},null,{"$f":"IF(0.25*H101*1.3>0.15*J45,-0.15*J45,-0.25*H101*1.3)","v":0},{"$f":"IF(0.25*H101*1.3>0.15*K45,-0.15*K45,-0.25*H101*1.3)","v":0},{"$f":"IF(0.25*H101*1.3>0.15*L45,-0.15*L45,-0.25*H101*1.3)","v":0},null,null,null,null,2016,null,"Continente",null,null,null,null,null,null,null,null,null,null,null,"Para pensões superiores a 4,611.42 €",null,null,null,null,null,"(Euros)"]
[null,"TOTAL (EBF)",null,null,null,{"$f":"SUM(F60:F62)","v":0},{"$f":"SUM(G60:G62)","v":0},{"$f":"SUM(H60:H62)","v":0},null,{"$f":"SUM(J60:J62)","v":0},{"$f":"SUM(K60:K62)","v":0},{"$f":"SUM(L60:L62)","v":0},null,null,null,null,null,null,null,null,null,null,null,null,null,null,null,null,null,null,"Pensão bruta mensal",null,"Taxa","Parcela ",null,null,"De","Até"]
[null,null,null,null,null,null,null,null,null,null,null,null,null,null,null,null,"Rendimento colectável",null,"Taxa","Parcela ","Limite das deduções à colecta","Limite do BF",null,null,null,null,null,null,null,null,"(Euros)",null,"(%)","Abater",null,null,0,7000,444,null,444]
[null,"LIMITE OU SOMA",null,null,null,{"$f":"IF(-VLOOKUP(F38,Q30:V38,6,TRUE)<F63,F63,-VLOOKUP(F38,Q30:V38,6,TRUE))","v":0},{"$f":"IF(-VLOOKUP(G38,Q30:V38,6,TRUE)<G63,G63,-VLOOKUP(G38,Q30:V38,6,TRUE))","v":0},{"$f":"SUM(H63)","v":0},null,{"$f":"SUM(J63)","v":0},{"$f":"SUM(K63)","v":0},{"$f":"SUM(L63)","v":0},null,null,null,null,"(Euros)",null,"(%)","Abater",null,null,null,null,null,null,null,null,null,null,"De","Até",null,"(Euros)",null,null,{"$f":"AL64","v":7000},20000,355.2,null,355.2]
[null,null,null,null,null,null,null,null,null,null,null,null,null,null,null,null,"De","Até",null,"(Euros)",null,null,null,null,null,"SOBRETAXA 2015",null,null,null,null,0,4611.42,0,0,null,null,20000,99999999,296,null,296]
[null,"TOTAL DAS DEDUÇÕES",null,{"$f":"IF(-(#REF!+D48)>D45,-D45,#REF!+D48)","v":{"$error":"#REF!"}},null,{"$f":"F48+F58+F65","v":-213.75},{"$f":"G48+G58+G65","v":-213.75},{"$f":"H48+H58+H54","v":0},null,{"$f":"J48+J58+J54","v":0},{"$f":"K48+K58+K54","v":0},{"$f":"L48+L58+L54","v":0},null,null,null,null,0,7035,0.14499999999999999,0,9.9999999999999902E+42,9.9999999999999902E+42,null,null,null,null,null,null,null,null,4611.42,7126.74,7.4999999999999997E-2,{"$f":"ROUND(0.075*AE67,2)","v":345.86}]
[null,null,null,null,null,null,null,null,null,null,null,null,null,null,null,null,{"$f":"R67","v":7035},20100,0.28499999999999998,{"$f":"+(S68-S67)*R67+T67","v":984.89999999999986},{"$f":"(1250+(1250*0.1*$C$95))","v":1250},100,null,null,null,"DESCRIÇÃO - ANUAL",null,"Euros",null,null,{"$f":"AF67","v":7126.74},99999999999,0.2,{"$f":"ROUND((AG68-AG67)*AF67+AH67,2)","v":1236.7},null,null,"Rendimento colectável",null,"Limite Dedução Rendas 2015",null,"Limite Dedução Rendas 2016",null,"Limite Dedução Rendas 2017"]
[null,"IMPOSTO APURADO",null,{"$f":"D45+D67","v":{"$error":"#VALUE!"}},null,{"$f":"IF(F45+F67<0,0,F45+F67)","v":0},{"$f":"IF(G45+G67<0,0,G45+G67)","v":0},{"$f":"IF(H45+H67<0,0,H45+H67)","v":0},null,{"$f":"IF(J45+J67<0,0,J45+J67)","v":0},{"$f":"IF(K45+K67<0,0,K45+K67)","v":0},{"$f":"IF(L45+L67<0,0,L45+L67)","v":0},null,null,null,null,null,null,null,null,null,null,null,null,null,null,null,null,null,null,null,null,null,null,null,null,"(Euros)"]
[null,null,null,null,null,null,null,null,null,null,null,null,null,null,null,null,null,null,null,null,null,null,null,null,null,null,null,null,null,null,null,null,null,null,null,null,"De","Até"]
[null,"SOBRETAXA",null,"N/A",null,{"$f":"AB30","v":0},{"$f":"AB61","v":0},{"$f":"AB91","v":0},null,{"$f":"AB172","v":0},{"$f":"AB205","v":0},{"$f":"AB235","v":0},null,null,null,null,null,null,null,null,null,null,null,null,null,"RENDIMENTO BRUTO",null,{"$f":"H22","v":0},null,null,null,{"$f":"AF58*17","v":7126.7400000000007},null,null,null,null,0,7000,800,null,800,null,800]
[null,null,null,null,null,null,null,null,null,null,null,null,null,null,null,null,null,null,null,null,null,null,null,null,null,"TOTAL ",null,{"$f":"+AB71","v":0},null,null,null,null,null,null,null,null,{"$f":"AL71","v":7000},30000,{"$f":"502+((800-502)*((30000-H38)/(30000-7000)))","v":890.695652173913},null,{"$f":"502+((800-502)*((30000-J38)/(30000-7000)))","v":890.695652173913},null,{"$f":"502+((800-502)*((30000-K38)/(30000-7000)))","v":890.695652173913}]
[null,"TAXA DE SOLIDARIEDADE",null,{"$f":"IF(D38>Q20,IF(C92=2,(D38-Q20)*0.025*2,(D38-Q20)*0.025),0)","v":{"$error":"#REF!"}},null,{"$f":"IF(C92=1,((VLOOKUP(F38,Z102:AC104,3,TRUE)*F38)-VLOOKUP(F38,Z102:AC104,4,TRUE)),(((VLOOKUP(F38,Z102:AC104,3,TRUE)*F38)-VLOOKUP(F38,Z102:AC104,4,TRUE))*2))","v":0},{"$f":"IF($C$92=1,((VLOOKUP(G38,$Z$102:$AC$104,3,TRUE)*G38)-VLOOKUP(G38,$Z$102:$AC$104,4,TRUE)),(((VLOOKUP(G38,$Z$102:$AC$104,3,TRUE)*G38)-VLOOKUP(G38,$Z$102:$AC$104,4,TRUE))*2))","v":0},{"$f":"IF($C$92=1,((VLOOKUP(H38,$Z$102:$AC$104,3,TRUE)*H38)-VLOOKUP(H38,$Z$102:$AC$104,4,TRUE)),(((VLOOKUP(H38,$Z$102:$AC$104,3,TRUE)*H38)-VLOOKUP(H38,$Z$102:$AC$104,4,TRUE))*2))","v":0},null,{"$f":"IF($C$92=1,((VLOOKUP(J38,$Z$102:$AC$104,3,TRUE)*J38)-VLOOKUP(J38,$Z$102:$AC$104,4,TRUE)),(((VLOOKUP(J38,$Z$102:$AC$104,3,TRUE)*J38)-VLOOKUP(J38,$Z$102:$AC$104,4,TRUE))*2))","v":0},{"$f":"IF($C$92=1,((VLOOKUP(K38,$Z$102:$AC$104,3,TRUE)*K38)-VLOOKUP(K38,$Z$102:$AC$104,4,TRUE)),(((VLOOKUP(K38,$Z$102:$AC$104,3,TRUE)*K38)-VLOOKUP(K38,$Z$102:$AC$104,4,TRUE))*2))","v":0},{"$f":"IF($C$92=1,((VLOOKUP(L38,$Z$102:$AC$104,3,TRUE)*L38)-VLOOKUP(L38,$Z$102:$AC$104,4,TRUE)),(((VLOOKUP(L38,$Z$102:$AC$104,3,TRUE)*L38)-VLOOKUP(L38,$Z$102:$AC$104,4,TRUE))*2))","v":0},null,null,null,null,20100,40200,0.37,{"$f":"+(S73-S68)*R68+T68","v":2693.4000000000005},{"$f":"(1000+(1000*0.1*$C$95))","v":1000},80,null,null,null,null,null,null,null,null,null,null,null,null,null,null,"Rendimento colectável",null,"Limite Dedução Juros 2015",null,"Limite Dedução Juros 2016",null,"Limite Dedução Juros 2017"]
[null,null,null,null,null,null,null,null,null,null,null,null,null,null,null,null,{"$f":"R73","v":40200},80000,0.45,{"$f":"+(S74-S73)*R73+T73","v":5909.4000000000015},{"$f":"(500+(500*0.1*$C$95))","v":500},60,null,null,null,"DEDUÇÕES ESPECÍFICAS",null,{"$f":"+H29","v":0},null,null,"CES",2017,null,null,null,null,"(Euros)"]
[null,"VALOR FINAL",null,null,null,null,null,null,null,null,null,null,null,null,null,null,{"$f":"R74","v":80000},99999999999,0.48,{"$f":"+(S75-S74)*R74+T74","v":8309.4},0,0,null,null,null,null,null,null,null,null,null,null,null,null,null,null,"De","Até"]
[null,"IMPOSTO REFERENTE A PENSÃO DE ALIMENTOS",null,null,null,null,null,{"$f":"+IFERROR(J176+J186,0)","v":0},null,null,null,null,null,null,null,null,null,null,null,null,null,null,null,null,null,null,null,null,null,null,"Para pensões superiores a 4,611.42 €",null,null,null,null,null,0,7000,450,null,450,null,450]
[null,{"$f":"IFERROR(IF((D69+#REF!+-#REF!+#REF!)>=0,\"IMPOSTO A PAGAR\",\"REEMBOLSO\"),\"IMPOSTO A PAGAR\")","v":"IMPOSTO A PAGAR"},null,{"$f":"D69+D73","v":{"$error":"#VALUE!"}},null,{"$f":"IF((F69+F71+F73)<0,0,(F69+F71+F73))","v":0},{"$f":"IF((G69+G71+G73)<0,0,(G69+G71+G73))","v":0},{"$f":"IF((H69+H71+H73+H76)<0,0,(H69+H71+H73+H76))","v":0},null,{"$f":"IF((J69+J71+J73+J76)<0,0,(J69+J71+J73+J76))","v":0},{"$f":"IF((K69+K71+K73+K76)<0,0,(K69+K71+K73+K76))","v":0},{"$f":"IF((L69+L71+L73+L76)<0,0,(L69+L71+L73+L76))","v":0},null,null,null,null,null,null,null,null,null,null,null,null,null,null,null,null,null,null,"Pensão bruta mensal",null,"Taxa","Parcela ",null,null,{"$f":"AL76","v":7000},30000,{"$f":"296+((450-296)*((30000-H38)/(30000-7000)))","v":496.86956521739131},null,{"$f":"296+((450-296)*((30000-J38)/(30000-7000)))","v":496.86956521739131},null,{"$f":"296+((450-296)*((30000-K38)/(30000-7000)))","v":496.86956521739131}]
[null,"VALOR FINAL COM MINIMO DE EXISTENCIA",null,null,null,null,null,{"$f":"IF(H77+H79<0,0,H77+H79)","v":0},null,{"$f":"IF(J77+J79<0,0,J77+J79)","v":0},{"$f":"IF(K77+K79<0,0,K77+K79)","v":0},{"$f":"IF(L77+L79<0,0,L77+L79)","v":0},null,"IAS",null,null,2017,null,"Continente",null,null,null,null,null,null,"RENDIMENTO LÍQUIDO/COLECTÁVEL",null,{"$f":"AB72+AB74","v":0},null,null,"(Euros)",null,"(%)","Abater"]
[null,"Aplicação do mínimo de existência",null,null,null,null,null,{"$f":"ROUND(IF(IF(H22-H80<0,0,H22-H80)-H69<0,IF(H22-H80<0,0,H22-H80)-H69,0),2)","v":0},null,{"$f":"ROUND(IF(IF(J22-J80<0,0,J22-J80)-J69<0,IF(J22-D80<0,0,J22-J80)-J69,0),2)","v":0},{"$f":"ROUND(IF(IF(K22-K80<0,0,K22-K80)-K69<0,IF(K22-E80<0,0,K22-K80)-K69,0),2)","v":0},{"$f":"ROUND(IF(IF(L22-L80<0,0,L22-L80)-L69<0,IF(L22-F80<0,0,L22-L80)-L69,0),2)","v":0},null,421.32,null,null,null,null,null,null,null,null,null,null,null,null,null,null,null,null,"De","Até",null,"(Euros)",null,null,"Rendimento colectável",null,"Limite Dedução Juros 2016"]
[null,"Mínimo de existência",null,null,null,null,null,{"$f":"+IF($C$92=1,8500,8500*2)","v":8500},null,8500,{"$f":"+IF($C$92=1,8500,8500*2)","v":8500},{"$f":"+IF($C$92=1,(1.5*14*N79),(1.5*14*N79)*2)","v":8847.7199999999993},null,null,null,null,"Rendimento colectável",null,"Taxa","Parcela ","Limite das deduções à colecta","Limite do BF",null,null,null,"DESPESAS EDUCAÇÃO",null,{"$f":"+H33","v":0},null,null,0,4611.42,0,0,null,null,"(Euros)"]
[null,null,null,null,null,null,null,null,null,null,null,null,null,null,null,null,"(Euros)",null,"(%)","Abater",null,null,null,null,null,null,null,null,null,null,4611.42,7126.74,7.4999999999999997E-2,{"$f":"ROUND(0.075*AE81,2)","v":345.86},null,null,"De","Até"]
[null,"TAXA EFECTIVA ANTES DAS DEDUÇÕES",null,{"$f":"(D45+D73)/D22","v":{"$error":"#VALUE!"}},null,{"$f":"(F45+F71+F73)/F22","v":{"$error":"#DIV/0!"}},{"$f":"(G45+G71+G73)/G22","v":{"$error":"#DIV/0!"}},{"$f":"(H45+H71+H73)/H22","v":{"$error":"#DIV/0!"}},null,{"$f":"(J45+J71+J73)/J22","v":{"$error":"#DIV/0!"}},{"$f":"(K45+K71+K73)/K22","v":{"$error":"#DIV/0!"}},{"$f":"(L45+L71+L73)/L22","v":{"$error":"#DIV/0!"}},null,null,null,null,"De","Até",null,"(Euros)",null,null,null,null,null,"RMMG (505 x 14 )",null,{"$f":"IF(AND(C92=2,C101=2),-7070,-7070*$C$92)","v":-7070},null,null,{"$f":"AF81","v":7126.74},99999999999,0.2,{"$f":"ROUND((AG82-AG81)*AF81+AH81,2)","v":1236.7},null,null,0,7091,450]
[null,"TAXA EFECTIVA",null,{"$f":"D77/D22","v":{"$error":"#VALUE!"}},null,{"$f":"F77/F22","v":{"$error":"#DIV/0!"}},{"$f":"G77/G22","v":{"$error":"#DIV/0!"}},{"$f":"H77/(H22+$M$105+$N$105)","v":{"$error":"#DIV/0!"}},null,{"$f":"J77/(J22+$M$105+$N$105)","v":{"$error":"#DIV/0!"}},{"$f":"K77/(K22+$M$105+$N$105)","v":{"$error":"#DIV/0!"}},{"$f":"L77/(L22+$M$105+$N$105)","v":{"$error":"#DIV/0!"}},null,null,null,null,0,7091,0.14499999999999999,0,9.9999999999999902E+42,9.9999999999999902E+42,null,null,null,null,null,null,null,null,null,null,null,null,null,null,{"$f":"AL82","v":7091},30000,{"$f":"296+((450-296)*((30000-J38)/(30000-7035)))","v":497.17570215545396}]
[null,"CES SOBRE AS PENSÕES",null,null,null,{"$f":"G199+J199","v":0},{"$f":"G202+J202","v":0},{"$f":"G206+J206","v":0},null,{"$f":"G208+J208","v":0},0,0,null,null,null,null,{"$f":"R83","v":7091},20261,0.28499999999999998,{"$f":"+(S84-S83)*R83+T83","v":992.7399999999999},{"$f":"(1250+(1250*0.1*$C$95))","v":1250},100]
[null,"RENDIMENTO LÍQUIDO",null,{"$f":"D22-D77","v":{"$error":"#REF!"}},null,{"$f":"F22-F77-F84","v":0},{"$f":"G22-G77-G84","v":0},{"$f":"H22-H78-H84","v":0},null,{"$f":"J22-J78-J84","v":0},{"$f":"K22-K78-K84","v":0},{"$f":"L22-L78-L84","v":0},null,null,null,null,null,null,null,null,null,null,null,null,null,"RENDIMENTO PARA EFEITOS DE SOBRETAXA",null,{"$f":"IF(+AB78+AB82-AB80<0,0,+AB78+AB82-AB80)","v":0},null,null,null,null,null,null,null,null,"Rendimento colectável",null,"Limite Dedução Rendas 2016"]
[null,null,null,null,null,null,null,null,null,null,null,null,null,null,null,null,null,null,null,null,null,null,null,null,null,null,null,null,null,null,null,null,null,null,null,null,"(Euros)"]
[null,null,null,null,null,null,null,null,null,null,null,null,null,null,null,null,null,null,null,null,null,null,null,null,null,"SOBRETAXA A PAGAR (3.5%)",null,{"$f":"IF(AB85*0.035<0,0,AB85*0.035)","v":0},null,null,null,null,null,null,null,null,"De","Até"]
[null,null,null,null,null,null,null,null,null,null,null,null,null,null,null,null,null,null,null,null,null,null,null,null,null,null,null,null,null,null,null,null,null,null,null,null,0,7091,800]
[null,null,null,null,null,"DEDUÇÕES À COLETA",null,null,null,null,"RENDIMENTO",null,"Sujeito Passivo A","Sujeito Passivo B",null,null,20261,40522,0.37,{"$f":"+(S89-S84)*R84+T84","v":2714.9250000000002},{"$f":"(1000+(1000*0.1*$C$95))","v":1000},80,null,null,null,"DEDUÇÃO À COLECTA POR FILHOS (c/ nº4 art 3º)",null,{"$f":"IF(AB85=0,0,IF(C101=2,(-12.63*$C$95)/2,-12.63*$C$95))","v":0},null,null,null,null,null,null,null,null,{"$f":"AL88","v":7091},30000,{"$f":"502+((800-502)*((30000-J38)/(30000-7035)))","v":891.28804702808623}]
[null,null,null,null,null,null,null,null,null,null,null,null,null,null,null,null,{"$f":"R89","v":40522},80640,0.45,{"$f":"+(S90-S89)*R89+T89","v":5956.6850000000013},{"$f":"(500+(500*0.1*$C$95))","v":500},60]
[null,null,"Solteiro / Viúvo / Divorciado",null,null,"Despesas de saúde",null,{"$f":"'Simular IRS 2019'!G31","v":0},"Rendas Imóveis",null,"Privado",null,{"$f":"'Simular IRS 2019'!G19","v":0},{"$f":"'Simular IRS 2019'!L19","v":0},null,null,{"$f":"R90","v":80640},99999999999,0.48,{"$f":"+(S91-S90)*R90+T90","v":8375.8849999999984},0,0,null,null,null,"TOTAL A PAGAR",null,{"$f":"IF(+AB87+AB89<0,0,AB87+AB89)","v":0},null,null,null,null,null,null,null,null,"Rendimento colectável",null,"Limite Dedução Rendas 2017"]
[null,"Estado Civil: Solteiro (1), Casado (2)",{"$f":"IF(C91=\"Casado / Unido de facto\",2,1)","v":1},null,null,"Despesas de educação",null,{"$f":"'Simular IRS 2019'!G35+'Simular IRS 2019'!G46","v":0},{"$f":"'Simular IRS 2019'!G37","v":0},null,null,null,null,null,null,null,null,null,null,null,null,null,null,null,null,null,null,null,null,null,null,null,null,null,null,null,"(Euros)"]
[null,"Assume sempre que os filhos têm mais de 3 anos           <=3","0",null,null,"Encargos com imóveis",null,{"$f":"'Simular IRS 2019'!G53","v":0},null,null,"Função Publica",null,{"$f":"'Simular IRS 2019'!G21","v":0},{"$f":"'Simular IRS 2019'!L21","v":0},null,null,null,null,null,null,null,null,null,null,null,null,null,null,null,null,null,null,null,null,null,null,"De","Até"]
["VBA",">3","0",null,null,"Rendas",null,{"$f":"'Simular IRS 2019'!G55","v":0},"Limite rendas",null,null,null,null,null,null,null,2017,null,null,null,null,null,null,null,null,null,null,null,null,null,null,null,null,null,null,null,0,7091,800]
["VBA","Nº de dependentes*:",{"$f":"C93+C94","v":0},null,null,"Pensão de alimentos",null,{"$f":"'Simular IRS 2019'!G59","v":0},{"$f":"IF(AND((I92*0.3)>300,(H92*0.3)>800),200,IF(AND((I92*0.3)>300,(H92*0.3)>800),200,I92*0.3))","v":0},null,"REG. SIMPL (SERVIÇOS)",null,null,null,null,null,null,null,null,null,null,null,null,null,null,null,null,null,null,null,null,null,null,null,null,null,{"$f":"AL94","v":7091},30000,{"$f":"502+((800-502)*((30000-K38)/(30000-AK95)))","v":892.23964380811037}]
["VBA","Nº de ascendentes","0",null,null,"Despesas Gerais",null,{"$f":"'Simular IRS 2019'!G57","v":0}]
[null,"Nº de dependentes Educação",{"$f":"'Simular IRS 2019'!G44","v":0},null,null,"Seguros de saúde",null,{"$f":"'Simular IRS 2019'!G64","v":0},"Limite despesas",null,null,null,null,null,null,null,"Rendimento colectável",null,"Taxa","Parcela ","Limite das deduções à colecta","Limite do BF",null,null,null,"TAXA ADICIONAL DE SOLIDARIEDADE"]
[null,"Nº de sujeitos passivos Educação",{"$f":"+'Simular IRS 2019'!G48","v":0},null,null,null,null,null,{"$f":"IF(H92*0.3>800,800,H92*0.3)","v":0},null,null,null,null,null,null,null,"(Euros)",null,"(%)","Abater",null,null,null,null,null,null,null,null,null,null,null,null,null,null,null,null,"Rendimento colectável",null,"Limite Dedução Juros 2017"]
[null,"Nº de beneficiários",{"$f":"'Simular IRS 2019'!G61","v":0},null,null,"PPR A",null,{"$f":"'Simular IRS 2019'!G67","v":0},null,null,"REG. SIMPL (VENDAS)",null,null,null,null,null,"De","Até",null,"(Euros)",null,null,null,null,null,null,null,null,null,null,null,null,null,null,null,null,"(Euros)"]
[null,"Ano de contrato",{"$f":"'Simular IRS 2019'!G51","v":0},null,null,"PPR B",null,{"$f":"'Simular IRS 2019'!G69","v":0},"Qual o limite?",null,null,null,null,null,null,null,0,7091,0.14499999999999999,0,9.9999999999999902E+42,9.9999999999999902E+42,null,null,null,null,null,null,null,null,null,null,null,null,null,null,"De","Até"]
[null,"Tipo de tributação",{"$f":"IF(C102=\"Tributação separada\",2,1)","v":1},null,null,"Donativos",null,{"$f":"'Simular IRS 2019'!G71","v":0},{"$f":"IF('Simular IRS 2019'!G35<>\"\",IF(AND('Simular IRS 2019'!G37<>\"\",IF(H92*0.3>800,800,H92*0.3)<=800),IF(AND(I95>200,I98>800),1000,I95+I98),800),300)","v":300},null,"CONT. ORG.",null,"Tributação separada",null,null,null,{"$f":"R100","v":7091},80640,0.28499999999999998,{"$f":"+(S101-S100)*R100+T100","v":992.7399999999999},{"$f":"IF(C95>=3,(1000+((2500-1000)*((Q102-K38)/(Q102-R100))))*(1+(0.05*C95)),(1000+((2500-1000)*((Q102-K38)/(Q102-R100)))))","v":2644.6178737984201},100,null,null,null,"Escalões",null,"Taxa","Parcela",null,null,null,null,null,null,null,0,7091,450]
[null,null,"Tributação conjunta",null,null,null,null,null,null,null,null,null,"Tributação separada",null,null,null,80640,9.9999999999999904E+23,null,null,{"$f":"IF(C95>=3,1000*(1+(0.05*C95)),1000)","v":1000},null,null,null,null,0,80000,0,0,null,null,null,null,null,null,null,{"$f":"AL101","v":7091},30000,{"$f":"296+((450-296)*((30000-K38)/(30000-AK102)))","v":497.66746693439256}]
[null,"Nº ascendentes",{"$f":"C96","v":"0"},null,null,null,null,null,null,null,"PENSÕES VELHICE",null,{"$f":"'Simular IRS 2019'!G24","v":0},{"$f":"'Simular IRS 2019'!L24","v":0},null,null,null,null,null,null,null,null,null,null,null,80000,250000,2.5000000000000001E-2,2000]
[null,null,null,null,null,null,null,null,null,null,null,null,null,null,null,null,null,null,null,null,null,null,null,null,null,250000,9.9999999999999904E+16,0.05,8250,null,null,null,null,null,null,null,"Rendimento colectável",null,"Limite Dedução Rendas 2018"]
[null,null,null,null,null,null,null,{"$f":"H92*0.3","v":0},null,null,"PENSÕES DE ALIMENTOS",null,{"$f":"+'Simular IRS 2019'!G26","v":0},{"$f":"+'Simular IRS 2019'!L26","v":0},null,null,2018,null,"Continente",null,null,null,null,null,null,null,null,null,null,null,null,null,null,null,null,null,"(Euros)"]
[null,null,null,null,null,null,null,{"$f":"+I92*0.3","v":0},null,null,null,null,null,null,null,null,null,null,null,null,null,null,null,null,null,null,null,null,null,null,null,null,null,null,null,null,"De","Até"]
[null,null,"RENDIMENTO",null,null,null,null,{"$f":"(H105+H106)/2","v":0},null,null,null,"TOTAL",{"$f":"SUM(M91,N91,M93,N93,M95,N95,M99,N99,M101,N101,M103,N103,M105,N105)","v":0},null,null,null,"Rendimento colectável",null,"Taxa","Parcela ","Limite das deduções à colecta","Limite do BF",null,null,null,null,null,null,null,null,null,null,null,null,null,null,0,7091,800]
[null,null,null,null,null,null,null,null,null,null,null,null,null,null,null,null,"(Euros)",null,"(%)","Abater",null,null,null,null,null,null,null,null,null,null,null,null,null,null,null,null,{"$f":"AL107","v":7091},30000,{"$f":"502+((800-502)*((30000-L38)/(30000-AK108)))","v":892.23964380811037}]
[null,null,"Trabalho Dependente - Privado",null,null,null,null,null,null,null,null,null,null,null,null,null,"De","Até",null,"(Euros)"]
[null,null,null,null,null,null,null,null,2013,2014,2015,2016,2017,2018,null,null,0,7091,0.14499999999999999,0,9.9999999999999902E+42,9.9999999999999902E+42]
[null,null,null,null,null,null,null,null,null,null,null,null,null,null,null,null,{"$f":"R110","v":7091},10700,0.23,{"$f":"+(S111-S110)*R110+T110","v":602.73500000000013},{"$f":"(1250+(1250*0.1*$C$95))","v":1250},100,null,null,null,null,null,null,null,null,null,null,null,null,null,null,"Rendimento colectável",null,"Limite Dedução Juros 2018"]
[null,null,"Sujeito Passivo A",null,"Rendimento do trabalho dependente do sujeito passivo A",null,null,null,{"$f":"M91","v":0},{"$f":"I112","v":0},{"$f":"+I112","v":0},{"$f":"I112","v":0},{"$f":"I112","v":0},{"$f":"I112","v":0},null,null,{"$f":"R111","v":10700},20261,0.28499999999999998,{"$f":"(S112-S111)*R111+T111","v":1191.2349999999997},null,null,null,null,null,null,null,null,null,null,null,null,null,null,null,null,"(Euros)"]
[null,null,null,null,"Contribuições obrigatórias para a SS",null,null,null,{"$f":"I112*0.11","v":0},{"$f":"0.11*J112","v":0},{"$f":"0.11*K112","v":0},{"$f":"0.11*L112","v":0},{"$f":"0.11*M112","v":0},{"$f":"0.11*N112","v":0},null,null,null,null,null,null,null,null,null,null,null,null,null,null,null,null,null,null,null,null,null,null,"De","Até"]
[null,null,null,null,"Dedução mínima prevista para rendimentos da categoria",null,null,null,4104,4104,4104,4104,4104,4104,null,null,null,null,null,null,null,null,null,null,null,null,null,null,null,null,null,null,null,null,null,null,0,7091,450]
[null,null,null,null,"Dedução aplicável",null,null,null,{"$f":"IF(I112>=I114,IF(I113=0,I114,IF(I113>I114,I113,I114)),I112)","v":0},0,0,0,0,0,null,null,{"$f":"R112","v":20261},25000,0.35,{"$f":"(S115-S112)*R112+T112","v":2508.1999999999998},null,null,null,null,null,null,null,null,null,null,null,null,null,null,null,null,{"$f":"AL114","v":7091},30000,{"$f":"296+((450-296)*((30000-L38)/(30000-AK115)))","v":497.66746693439256}]
[null,null,null,null,null,null,null,null,null,null,null,null,null,null,null,null,{"$f":"R115","v":25000},36856,0.37,{"$f":"(S116-S115)*R115+T115","v":3008.2000000000003},{"$f":"(1000+(1000*0.1*$C$95))","v":1000},80]
[null,null,"Sujeito Passivo B",null,"Rendimento do trabalho dependente do sujeito passivo B",null,null,null,{"$f":"N91","v":0},{"$f":"I117","v":0},{"$f":"I117","v":0},{"$f":"I117","v":0},{"$f":"I117","v":0},{"$f":"I117","v":0},null,null,{"$f":"R116","v":36856},80640,0.45,{"$f":"(S117-S116)*R116+T116","v":5956.68},{"$f":"(500+(500*0.1*$C$95))","v":500},60]
[null,null,null,null,"Contribuições obrigatórias para a SS",null,null,null,{"$f":"I117*0.11","v":0},0,0,0,0,0,null,null,{"$f":"R117","v":80640},99999999999,0.48,{"$f":"(S118-S117)*R117+T117","v":8375.8799999999974},0,0]
[null,null,null,null,"Dedução mínima prevista para rendimentos da categoria",null,null,null,4104,4104,4104,4104,4104,4104]
[null,null,null,null,"Dedução aplicável",null,null,null,{"$f":"IF(I117>=I119,IF(I118=0,I119,IF(I118>I119,I118,I119)),I117)","v":0},0,0,0,0,0]
[null,null,null,null,null,null,null,null,null,null,null,null,null,null,null,null,2018]
[null,null,"TOTAL SP A+B",null,"RENDIMENTO BRUTO DA CATEGORIA",null,null,null,{"$f":"I112+I117","v":0},0,0,0,0,0]
[]
[null,null,"TOTAL SP A+B",null,"DEDUÇÃO ESPECÍFICA AOS REND. CATEGORIA ",null,null,null,{"$f":"I115+I120","v":0},0,0,0,0,0,null,null,"Rendimento colectável",null,"Taxa","Parcela ","Limite das deduções à colecta","Limite do BF"]
[null,null,null,null,null,null,null,null,null,null,null,null,null,null,null,null,"(Euros)",null,"(%)","Abater"]
[null,null,null,null,null,null,null,null,null,null,null,null,null,null,null,null,"De","Até",null,"(Euros)"]
[null,null,null,null,null,null,null,null,null,null,null,null,null,null,null,null,0,7091,0.14499999999999999,0,9.9999999999999902E+42,9.9999999999999902E+42]
[null,null,"Trabalho Dependente - FP",null,null,null,null,null,null,null,null,null,null,null,null,null,{"$f":"R127","v":7091},80640,0.28499999999999998,{"$f":"+(S128-S127)*R127+T127","v":992.7399999999999},{"$f":"IF(C95>=3,(1000+((2500-1000)*((80000-L38)/(80000-7035))))*(1+(0.05*C95)),(1000+((2500-1000)*((80000-L38)/(Q129-7035)))))","v":2630.3240269003463},100,null,null,null,"SOBRETAXA 2016"]
[null,null,null,null,null,null,null,null,2013,2014,2015,2016,2017,2018,null,null,80640,9.9999999999999904E+23,null,null,{"$f":"IF(C95>=3,1000*(1+(0.05*C95)),1000)","v":1000}]
[null,null,null,null,null,null,null,null,null,null,null,null,null,null,null,null,null,null,null,null,null,null,null,null,null,"DESCRIÇÃO - ANUAL",null,"Euros"]
[null,null,"Sujeito Passivo A",null,"Rendimento estimado",null,null,"A",{"$f":"M93","v":0},{"$f":"M93","v":0},{"$f":"M93","v":0},{"$f":"M93","v":0},{"$f":"M93","v":0},{"$f":"M93","v":0}]
[null,null,null,null,"Corte",null,null,"B",{"$f":"ROUND(IF((I131/14)<=1500,0,IF(AND((I131/14)>1500,(I131/14)<=2000),0.035*I131/14,IF(AND((I131/14)>2000,(I131/14)<=4165),0.035*2000+((I131/14)-2000)*0.16,0.1*I131/14))),2)*14","v":0},{"$f":"+L266","v":0},{"$f":"IF((K131/14)<1500,0,IF(AND((K131/14)>1500,(K131/14)<=2000),3.5%*(K131/14),IF(AND((K131/14)>2000,(K131/14)<4165),3.5%*2000+16%*((K131/14)-2000),10%*(K131/14))))*14","v":0},{"$f":"L281","v":0},{"$f":"L296","v":0},{"$f":"N311","v":0}]
[null,null,null,null,"Reversão",null,null,"C",0,0,{"$f":"K132*0.2","v":0},null,null,null,null,null,null,null,null,null,null,null,null,null,null,"RENDIMENTO BRUTO",null,{"$f":"J22","v":0}]
[null,null,null,null,"Rendimento depois de corte",null,null,"D",{"$f":"I131-I132","v":0},{"$f":"J131-J132","v":0},{"$f":"K131-K132+K133","v":0},{"$f":"L131-L132+L133","v":0},{"$f":"M131-M132+M133","v":0},{"$f":"N131-N132+N133","v":0},null,null,null,null,null,null,null,null,null,null,null,"TOTAL ",null,{"$f":"AB133","v":0}]
[null,null,null,null,"Contribuições estimadas para a ss",null,null,"E",{"$f":"I134*(0.11+0.0225)","v":0},{"$f":"J134*(0.11+0.035)","v":0},{"$f":"K134*(0.11+0.035)","v":0},{"$f":"L134*(0.11+0.035)","v":0},{"$f":"M134*(0.11+0.035)","v":0},{"$f":"N134*(0.11+0.035)","v":0}]
[null,null,null,null,"Dedução mínima prevista para rendimentos da categoria",null,null,"F",4104,4104,4104,4104,4104,4104,null,null,null,null,null,null,null,null,null,null,null,"DEDUÇÕES ESPECÍFICAS",null,{"$f":"J29","v":0}]
[null,null,null,null,"Dedução aplicável",null,null,"G",{"$f":"IF(I131>=I136,IF(I135=0,I136,IF(I135>I136,I135,I136)),I131)","v":0},0,0,0,0,0]
[]
[]
[null,null,"Sujeito Passivo B",null,"Rendimento antes de corte",null,null,1,{"$f":"N93","v":0},{"$f":"I140","v":0},{"$f":"+N93","v":0},{"$f":"N93","v":0},{"$f":"N93","v":0},{"$f":"N93","v":0},null,null,null,null,null,null,null,null,null,null,null,"RENDIMENTO LÍQUIDO/COLECTÁVEL",null,{"$f":"AB134+AB136","v":0}]
[null,null,null,null,"Corte",null,null,2,{"$f":"ROUND(IF((I140/14)<=1500,0,IF(AND((I140/14)>1500,(I140/14)<=2000),0.035*I140/14,IF(AND((I140/14)>2000,(I140/14)<=4165),0.035*2000+((I140/14)-2000)*0.16,0.1*I140/14))),2)*14","v":0},{"$f":"+N266","v":0},{"$f":"IF((K140/14)<1500,0,IF(AND((K140/14)>1500,(K140/14)<=2000),3.5%*(K140/14),IF(AND((K140/14)>2000,(K140/14)<4165),3.5%*2000+16%*((K140/14)-2000),10%*(K140/14))))*14","v":0},{"$f":"N281","v":0},{"$f":"N296","v":0},{"$f":"N311","v":0}]
[null,null,null,null,"Reversão",null,null,null,0,0,{"$f":"0.2*K141","v":0},0,0,0,null,null,null,null,null,null,null,null,null,null,null,"DESPESAS EDUCAÇÃO",null,{"$f":"H33","v":0},null,null,"Tabela da Sobretaxa (2016)"]
[null,null,null,null,"Rendimento depois de corte",null,null,3,{"$f":"I140-I141","v":0},{"$f":"+J140-J141","v":0},{"$f":"K140-K141+K142","v":0},{"$f":"L140-L141+L142","v":0},{"$f":"M140-M141+M142","v":0},{"$f":"N140-N141+N142","v":0},null,null,null,null,null,null,null,null,null,null,null,null,null,null,null,null,"Rendimento Coletável (euros)"]
[null,null,null,null,"Contribuições estimadas para a ss",null,null,4,{"$f":"I143*(0.11+0.0225)","v":0},{"$f":"J143*(0.11+0.035)","v":0},{"$f":"K143*(0.11+0.035)","v":0},{"$f":"L143*(0.11+0.035)","v":0},{"$f":"M143*(0.11+0.035)","v":0},{"$f":"N143*(0.11+0.035)","v":0},null,null,null,null,null,null,null,null,null,null,null,"RMMG (530 x 14 = 7420 )",null,{"$f":"IF(AND(C92=2,C101=2),-7420,-7420*$C$92)","v":-7420},null,null,0,7070,0]
[null,null,null,null,"Dedução mínima prevista para rendimentos da categoria",null,null,5,4104,4104,4104,4104,4104,4104,null,null,null,null,null,null,null,null,null,null,null,null,null,null,null,null,7070.0001000000002,20000,0.01]
[null,null,null,null,"Dedução aplicável",null,null,6,{"$f":"IF(I140>=I145,IF(I144=0,I145,IF(I144>I145,I144,I145)),I140)","v":0},0,0,0,0,0,null,null,null,null,null,null,null,null,null,null,null,null,null,null,null,null,20000.001,40000,1.7500000000000002E-2]
[null,null,null,null,null,null,null,null,null,null,null,null,null,null,null,null,null,null,null,null,null,null,null,null,null,"RENDIMENTO PARA EFEITOS DE SOBRETAXA",null,{"$f":"IF(+AB140+AB144-AB142<0,0,+AB140+AB144-AB142)","v":0},null,null,40000.000999999997,80000,0.03]
[null,null,"TOTAL SP A+B",null,"RENDIMENTO BRUTO DA CATEGORIA",null,null,null,{"$f":"I134+I143","v":0},0,0,0,0,0,null,null,null,null,null,null,null,null,null,null,null,null,null,null,null,null,80000.001000000004,9.9999999999999904E+16,3.5000000000000003E-2]
[null,null,null,null,null,null,null,null,null,null,null,null,null,null,null,null,null,null,null,null,null,null,null,null,null,"SOBRETAXA A PAGAR",null,{"$f":"IF((VLOOKUP(IF(C92=1,AB140,IF(AND(C92=2,C101=1),AB140/2,AB140)),AE144:AG148,3,TRUE)*AB147)<0,0,VLOOKUP(IF(C92=1,AB140,IF(AND(C92=2,C101=1),AB140/2,AB140)),AE144:AG148,3,TRUE)*AB147)","v":0}]
[null,null,"TOTAL SP A+B",null,"DEDUÇÃO ESPECÍFICA AOS REND. CATEGORIA ",null,null,null,{"$f":"I137+I146","v":0},0,0,0,0,0]
[null,null,null,null,null,null,null,null,null,null,null,null,null,null,null,null,null,null,null,null,null,null,null,null,null,"DEDUÇÃO À COLECTA POR FILHOS (2.5%*530=13.25)",null,{"$f":"IF(AND(C92=2,C101=2),(IF(AB147=0,0,IF(C101=2,(-13.25*$C$95)/2,-13.25*$C$95)))/2,IF(AB147=0,0,IF(C101=2,(-13.25*$C$95)/2,-13.25*$C$95)))","v":0}]
[]
[null,null,null,null,null,null,null,null,null,null,null,null,null,null,null,null,null,null,null,null,null,null,null,null,null,"TOTAL A PAGAR"]
[null,null,"Trabalho Independente"]
[null,null,null,null,null,null,null,2013,2014,2015]
[null,null,"Sujeito Passivo A",null,"Regime Simplificado"]
[null,null,null,null,"Vendas  (20%)",null,null,{"$f":"$M$99*0.2","v":0},{"$f":"$M$99*0.2","v":0},{"$f":"$M$99*0.2","v":0}]
[null,null,null,null,"Prestação de Serviços  (75%)",null,null,{"$f":"0.75*$M$95","v":0},{"$f":"0.75*$M$95","v":0},{"$f":"0.75*$M$95","v":0}]
[]
[null,null,null,null,"Contabilidade Organizada"]
[null,null,null,null,"Rendimento Líquido",null,null,{"$f":"$M$101","v":"Tributação separada"},{"$f":"$M$101","v":"Tributação separada"},{"$f":"$M$101","v":"Tributação separada"}]
[]
[null,null,"Sujeito Passivo B",null,"Regime Simplificado"]
[null,null,null,null,"Vendas  (20%)",null,null,{"$f":"0.2*$N$99","v":0},{"$f":"0.2*$N$99","v":0},{"$f":"0.2*$N$99","v":0}]
[null,null,null,null,"Prestação de Serviços  (70%)",null,null,{"$f":"0.7*$N$95","v":0},{"$f":"0.7*$N$95","v":0},{"$f":"0.7*$N$95","v":0}]
[]
[null,null,null,null,"Contabilidade Organizada"]
[null,null,null,null,"Rendimento Líquido",null,null,{"$f":"$N$101","v":0},{"$f":"$N$101","v":0},{"$f":"$N$101","v":0}]
[]
[null,null,"TOTAL",null,"RENDIMENTO BRUTO DA CATEGORIA B",null,null,{"$f":"+H157+H158+H161+H164+H165+H168","v":{"$error":"#VALUE!"}},{"$f":"+I157+I158+I161+I164+I165+I168","v":{"$error":"#VALUE!"}},{"$f":"+J157+J158+J161+J164+J165+J168","v":{"$error":"#VALUE!"}}]
[]
[null,null,null,null,null,null,null,null,null,null,null,null,null,null,null,null,null,null,null,null,null,null,null,null,null,"TOTAL A PAGAR",null,{"$f":"IF(AB149+AB151<0,0,AB149+AB151)","v":0}]
[null,null,"Pensões"]
[null,null,null,null,null,null,null,2013,2014,2015,2016,2017,2018]
[null,null,"Sujeito Passivo A",null,"Pensões de velhice",null,1,{"$f":"M103","v":0},{"$f":"H175","v":0},{"$f":"+M103","v":0},{"$f":"M103","v":0},{"$f":"M103","v":0},{"$f":"M103","v":0}]
[null,null,null,null,"Pensões de alimentos",null,2,{"$f":"+M105","v":0},{"$f":"+M105","v":0},{"$f":"IF((IF(J175-4104<=0,(M105-(4104-J175))*0.2,M105*0.2))<0,0,IF(J175-4104<=0,(M105-(4104-J175))*0.2,M105*0.2))","v":0}]
[null,null,null,null,"Corte na pensão de sobrevivência",null,3,null,null,null,null,null,null,null,null,null,null,null,null,null,null,null,null,null,null,null,null,null,null,{"$f":"AB148","v":0}]
[null,null,null,null,"Total de Pensões",null,4,{"$f":"H175+H176-H177","v":0},0,0,0,0,0]
[null,null,null,null,"CES",null,5,{"$f":"IF((H175/14)-G199<1350,(H175/14-1350)*14,G200)","v":-18900},{"$f":"IF((I175/14)-G202<1350,(I175/14-1350)*14,G203)","v":-18900},{"$f":"G206","v":0},{"$f":"G208","v":0},{"$f":"G204","v":0},{"$f":"G204","v":0},null,null,null,null,null,null,null,null,null,null,null,null,null,null,null,null,null,{"$f":"AB147*0.03-13.25","v":-13.25}]
[null,null,null,null,"Dedução prevista para pensões",null,6,{"$f":"G209","v":0},{"$f":"G210","v":0},{"$f":"G211","v":0},{"$f":"G212","v":0},{"$f":"G213","v":0},{"$f":"G213","v":0},null,null,null,null,null,null,null,null,null,null,null,null,"SOBRETAXA 2017"]
[null,null,null,null,"Dedução Específica ou CES (se superior)",null,null,{"$f":"IF(H180>H179,H180,H179)","v":0},0,0,0,0,0]
[null,null,null,null,null,null,null,null,null,null,null,null,null,null,null,null,null,null,null,null,null,null,null,null,null,"DESCRIÇÃO - ANUAL",null,"Euros"]
[]
[null,null,null,null,null,null,null,2013,2014,2015,2016,2017,2018]
[null,null,"Sujeito Passivo B",null,"Pensões de velhice",null,1,{"$f":"N103","v":0},{"$f":"H185","v":0},{"$f":"+N103","v":0},{"$f":"N103","v":0},{"$f":"N103","v":0},{"$f":"N103","v":0},null,null,null,null,null,null,null,null,null,null,null,null,"RENDIMENTO BRUTO",null,{"$f":"K22","v":0}]
[null,null,null,null,"Pensões de alimentos",null,2,{"$f":"+N105","v":0},{"$f":"+N105","v":0},{"$f":"IF((IF(J185-4104<=\"0\",(N105-(4104-J185))*0.2,N105*0.2))<0,0,IF(J185-4104<=\"0\",(N105-(4104-J185))*0.2,N105*0.2))","v":0},null,null,null,null,null,null,null,null,null,null,null,null,null,null,null,"TOTAL ",null,{"$f":"AB185","v":0}]
[null,null,null,null,"Corte na pensão de sobrevivência",null,3]
[null,null,null,null,"Total de Pensões",null,4,{"$f":"H185+H186-H187","v":0},0,0,0,0,0,null,null,null,null,null,null,null,null,null,null,null,null,"DEDUÇÕES ESPECÍFICAS",null,{"$f":"K29","v":0}]
[null,null,null,null,"CES",null,5,{"$f":"IF((H185/14)-J199<1350,(H185/14-1350)*14,J200)","v":-18900},{"$f":"IF((I185/14)-J202<1350,(I185/14-1350)*14,J203)","v":-18900},{"$f":"J206","v":0},{"$f":"J208","v":0},{"$f":"J204","v":0},{"$f":"J204","v":0}]
[null,null,null,null,"Dedução prevista para pensões",null,6,{"$f":"J209","v":0},{"$f":"J210","v":0},{"$f":"J211","v":0},{"$f":"J212","v":0},{"$f":"J213","v":0},{"$f":"J213","v":0}]
[null,null,null,null,"Dedução Específica ou CES (se superior)",null,null,{"$f":"IF(H190>H189,H190,H189)","v":0},0,0,0,0,0]
[null,null,null,null,null,null,null,null,null,null,null,null,null,null,null,null,null,null,null,null,null,null,null,null,null,"RENDIMENTO LÍQUIDO/COLECTÁVEL",null,{"$f":"AB186+AB188","v":0},null,null,"Tabela da Sobretaxa (2017)"]
[null,null,"TOTAL SP A+B",null,"RENDIMENTO BRUTO DA CATEGORIA",null,null,{"$f":"H185+H175+H176+H186","v":0},{"$f":"I185+I175+I176+I186","v":0},{"$f":"J185+J175","v":0},{"$f":"K185+K175","v":0},{"$f":"L185+L175","v":0},{"$f":"M185+M175","v":0},null,null,null,null,null,null,null,null,null,null,null,null,null,null,null,null,null,"Rendimento Coletável (euros)"]
[null,null,null,null,null,null,null,null,null,null,null,null,null,null,null,null,null,null,null,null,null,null,null,null,null,"DESPESAS EDUCAÇÃO",null,{"$f":"H33","v":0},null,null,0,7091,0]
[null,null,"TOTAL SP A+B",null,"DEDUÇÃO ESPECÍFICA AOS REND. CATEGORIA ",null,null,{"$f":"H181+H191","v":0},0,0,0,0,0,null,null,null,null,null,null,null,null,null,null,null,null,null,null,null,null,null,7091.0001000000002,20261,0]
[null,null,null,null,null,null,null,null,null,null,null,null,null,null,null,null,null,null,null,null,null,null,null,null,null,"RMMG (557 x 14 = 7798 )",null,{"$f":"IF(AND(C92=2,C101=2),-7798,-7798*$C$92)","v":-7798},null,null,20261.001,40522,8.8000000000000005E-3]
[null,null,null,null,null,"Sujeito A",null,null,"Sujeito B",null,null,null,null,null,null,null,null,null,null,null,null,null,null,null,null,null,null,null,null,null,40522.000999999997,80640,2.75E-2]
[null,null,null,null,null,null,null,null,null,null,null,null,null,null,null,null,null,null,null,null,null,null,null,null,null,null,null,null,null,null,80640.001000000004,9.9999999999999904E+16,3.2099999999999997E-2]
[null,null,null,null,null,"CES MENSAL 2013",{"$f":"ROUND(IF(H178/14>AE28,((VLOOKUP(H178/14,AE28:AH30,3,TRUE)*H178/14)-VLOOKUP(H178/14,AE28:AH30,4))+((VLOOKUP(H178/14,AE40:AH42,3,TRUE)*H178/14)-VLOOKUP(H178/14,AE40:AH42,4)),0),2)","v":0},null,"CES MENSAL 2013",{"$f":"ROUND(IF(H188/14>AE28,((VLOOKUP(H188/14,AE28:AH30,3,TRUE)*H188/14)-VLOOKUP(H188/14,AE28:AH30,4))+((VLOOKUP(H188/14,AE40:AH42,3,TRUE)*H188/14)-VLOOKUP(H188/14,AE40:AH42,4)),0),2)","v":0},null,null,null,null,null,null,null,null,null,null,null,null,null,null,null,"RENDIMENTO PARA EFEITOS DE SOBRETAXA",null,{"$f":"IF(+AB192+AB196-AB194<0,0,+AB192+AB196-AB194)","v":0}]
[null,null,null,null,null,"CES ANUAL 2013",{"$f":"G199*14","v":0},null,"CES ANUAL 2013",{"$f":"J199*14","v":0}]
[null,null,null,null,null,"CES MENSAL 2017 / 2018",{"$f":"ROUND(IF((L175/14)>AF80,VLOOKUP((L175/14),AE80:AH82,3,TRUE)*(L175/14)-VLOOKUP((L175/14),AE80:AH82,4,TRUE),0),2)","v":0},null,"CES MENSAL 2017 /2018",{"$f":"ROUND(IF((L185/14)>AF80,VLOOKUP((L185/14),AE80:AH82,3,TRUE)*(L185/14)-VLOOKUP((L185/14),AE80:AH82,4,TRUE),0),2)","v":0},null,null,null,null,null,null,null,null,null,null,null,null,null,null,null,"SOBRETAXA A PAGAR",null,{"$f":"IF((VLOOKUP(IF(C92=1,AB192,IF(AND(C92=2,C101=1),AB192/2,AB192)),AE194:AG198,3,TRUE)*AB199)<0,0,VLOOKUP(IF(C92=1,AB192,IF(AND(C92=2,C101=1),AB192/2,AB192)),AE194:AG198,3,TRUE)*AB199)","v":0}]
[null,null,null,null,null,"CES MENSAL 2014",{"$f":"ROUND(IF(I178/14>AE28,((VLOOKUP(I178/14,AE28:AH30,3,TRUE)*I178/14)-VLOOKUP(I178/14,AE28:AH30,4))+((VLOOKUP(I178/14,AE40:AH42,3,TRUE)*I178/14)-VLOOKUP(I178/14,AE40:AH42,4)),0),2)","v":0},null,"CES MENSAL 2014",{"$f":"ROUND(IF(I188/14>AE28,((VLOOKUP(I188/14,AE28:AH30,3,TRUE)*I188/14)-VLOOKUP(I188/14,AE28:AH30,4))+((VLOOKUP(I188/14,AE40:AH42,3,TRUE)*I188/14)-VLOOKUP(I188/14,AE40:AH42,4)),0),2)","v":0}]
[null,null,null,null,null,"CES ANUAL 2014",{"$f":"G202*14","v":0},null,"CES ANUAL 2014",{"$f":"J202*14","v":0},null,null,null,null,null,null,null,null,null,null,null,null,null,null,null,"DEDUÇÃO À COLECTA POR FILHOS (2.5%*557=13.925)",null,{"$f":"IF(AND(C92=2,C101=2),(IF(AB147=0,0,IF(C101=2,(-13.925*$C$95)/2,-13.925*$C$95)))/2,IF(AB147=0,0,IF(C101=2,(-13.925*$C$95)/2,-13.925*$C$95)))","v":0}]
[null,null,null,null,null,"CES ANUAL 2017 / 2018",{"$f":"ROUND(G201*14,2)","v":0},null,"CES ANUAL 2017 / 2018",{"$f":"ROUND(J201*14,2)","v":0}]
[null,null,null,null,null,"CES MENSAL 2015",{"$f":"ROUND(IF((J175/14)>AF52,VLOOKUP((J175/14),AE52:AH54,3,TRUE)*(J175/14)-VLOOKUP((J175/14),AE52:AH54,4,TRUE),0),2)","v":0},null,"CES MENSAL 2015",{"$f":"ROUND(IF((J185/14)>$AF$52,VLOOKUP((J185/14),$AE$52:$AH$54,3,TRUE)*(J185/14)-VLOOKUP((J185/14),$AE$52:$AH$54,4,TRUE),0),2)","v":0},null,null,null,null,null,null,null,null,null,null,null,null,null,null,null,"TOTAL A PAGAR",null,{"$f":"IF(AB201+AB203<0,0,AB201+AB203)","v":0}]
[null,null,null,null,null,"CES ANUAL 2015",{"$f":"ROUND(G205*14,2)","v":0},null,"CES ANUAL 2015",{"$f":"ROUND(J205*14,2)","v":0}]
[null,null,null,null,null,"CES MENSAL 2016",{"$f":"ROUND(IF((K175/14)>AF66,VLOOKUP((K175/14),AE66:AH68,3,TRUE)*(K175/14)-VLOOKUP((K175/14),AE66:AH68,4,TRUE),0),2)","v":0},null,"CES MENSAL 2016",{"$f":"ROUND(IF((K185/14)>AF66,VLOOKUP((K185/14),AE66:AH68,3,TRUE)*(K185/14)-VLOOKUP((K185/14),AE66:AH68,4,TRUE),0),2)","v":0}]
[null,null,null,null,null,"CES ANUAL 2016",{"$f":"ROUND(G207*14,2)","v":0},null,"CES ANUAL 2016",{"$f":"ROUND(J207*14,2)","v":0}]
[null,null,null,null,null,"DEDUÇÃO PENSÃO 2013",{"$f":"IF(H178<=4104,H178,IF(AND(H178>4104,H178<22500),4104,IF((4104-(H178-22500)*0.2)>0,(4104-(H178-22500)*0.2),0)))","v":0},null,"DEDUÇÃO PENSÃO 2013",{"$f":"IF(H185<=4104,H185,IF(AND(H185>4104,H185<22500),4104,IF((4104-(H185-22500)*0.2)>0,(4104-(H185-22500)*0.2),0)))","v":0}]
[null,null,null,null,null,"DEDUÇÃO PENSÃO 2014",{"$f":"IF(I178<=4104,I178,IF(AND(I178>4104,I178<22500),4104,IF((4104-(I178-22500)*0.2)>0,(4104-(I178-22500)*0.2),0)))","v":0},null,"DEDUÇÃO PENSÃO 2014",{"$f":"IF(I188<=4104,I188,IF(AND(I188>4104,I188<22500),4104,IF((4104-(I188-22500)*0.2)>0,(4104-(I188-22500)*0.2),0)))","v":0},null,null,null,null,null,null,null,null,null,null,null,null,null,null,null,"SOBRETAXA 2018"]
[null,null,null,null,null,"DEDUÇÃO PENSÃO 2015",{"$f":"IF(J175<4104,J175,4104)","v":0},null,"DEDUÇÃO PENSÃO 2015",{"$f":"IF(J185<4104,J185,4104)","v":0}]
[null,null,null,null,null,"DEDUÇÃO PENSÃO 2016",{"$f":"IF(K175<4104,K175,4104)","v":0},null,"DEDUÇÃO PENSÃO 2016",{"$f":"IF(K185<4104,K185,4104)","v":0},null,null,null,null,null,null,null,null,null,null,null,null,null,null,null,"DESCRIÇÃO - ANUAL",null,"Euros"]
[null,null,null,null,null,"DEDUÇÃO PENSÃO 2017 / 2018",{"$f":"IF(L175<4104,L175,4104)","v":0},null,"DEDUÇÃO PENSÃO 2017 / 2018",{"$f":"IF(L185<4104,L185,4104)","v":0}]
[null,null,null,null,null,null,null,null,2014,2015,2016,2017,2018]
[null,null,null,null,null,"Dedução pessoal",null,{"$f":"IF(P215=1,(IF(N222=0,G218,IF(N222<=2,(G219+(N220*G220)+(G221*N221)),G219+(N220*G223)+(N221*G224)))),0)+IF(P215=2,(IF(N222<=2,G218*2+(N220*G220)+(N221*G221),G218*2+(N220*G223)+(N221*G224))),0)","v":213.75},{"$f":"IF(P215=1,(IF(N222=0,G218,IF(N222<=2,(G219+(N220*G220)+(G221*N221)),G219+(N220*G223)+(N221*G224)))),0)+IF(P215=2,(IF(N222<=2,G218*2+(N220*G220)+(N221*G221),G218*2+(N220*G223)+(N221*G224))),0)","v":213.75},{"$f":"IF(AND(C92=2,C101=2),N224*G232+(G231/2)*N222,G231*N222)","v":0},{"$f":"IF(AND(C92=2,C101=2),N224*H232+(H231/2)*N222,H231*N222)","v":0},{"$f":"IF(AND(C92=2,C101=2),N224*I232+(I231/2)*N222,I231*N222)","v":0},{"$f":"IF(AND(C92=2,C101=2),N224*J232+(J231/2)*N222,J231*N222)","v":0},null,"Estado Cívil",{"$f":"C92","v":1},"(1) Solteiro, (2) Casado",null,null,null,null,null,null,null,null,"RENDIMENTO BRUTO",null,{"$f":"L22","v":0}]
[null,null,null,null,null,"Dedução pessoal (ascendente)",null,{"$f":"+IF($C$96=\"0\",0,IF($C$96=\"1\",$G$226,$C$96*$G$225))","v":0},{"$f":"+IF($C$96=\"0\",0,IF($C$96=\"1\",$G$226,$C$96*$G$225))","v":0},{"$f":"IF(C96=0,0,IF(C96=\"1\",(G232+K232),(G232*C96)))","v":0},{"$f":"IF(C96=0,0,IF(C96=\"1\",(H232+K232),(H232*C96)))","v":0},{"$f":"IF(C96=0,0,IF(C96=\"1\",(I232+K232),(I232*C96)))","v":0},{"$f":"IF(C96=0,0,IF(C96=\"1\",(J232+K232),(J232*C96)))","v":0},null,null,null,null,null,null,null,null,null,null,null,null,"TOTAL ",null,{"$f":"AB215","v":0}]
[null,null,null,null,null,null,2014]
[null,null,null,null,null,"Sujeito Passivo",213.75,null,null,null,null,null,null,null,null,null,null,null,null,null,null,null,null,null,null,"DEDUÇÕES ESPECÍFICAS",null,{"$f":"K59","v":0}]
[null,null,null,null,null,"Familias monoparentais",332.5,null,null,null,null,"Número de Dependentes"]
[null,null,null,null,null,"Dependentes idade ≤ 3",427.5,null,null,null,null,"Idade ≤ 3 anos a 31/12",null,{"$f":"'BIG SIMULATOR'!C93+0","v":0}]
[null,null,null,null,null,"Dependentes idade ≥ 3",213.75,null,null,null,null,"Idade > 3 anos a 31/12",null,{"$f":"'BIG SIMULATOR'!C94+0","v":0}]
[null,null,null,null,null,"Mais de 3 dependentes",null,null,null,null,null,null,null,{"$f":"N220+N221","v":0},null,null,null,null,null,null,null,null,null,null,null,"RENDIMENTO LÍQUIDO/COLECTÁVEL",null,{"$f":"AB216+AB218","v":0},null,null,"Tabela da Sobretaxa (2017)"]
[null,null,null,null,null,"Dependentes idade ≤ 3",475,null,null,null,null,"Número de Ascendentes",null,null,null,null,null,null,null,null,null,null,null,null,null,null,null,null,null,null,"Rendimento Coletável (euros)"]
[null,null,null,null,null,"Dependentes idade ≥ 3",237.5,null,null,null,null,null,null,{"$f":"+C96","v":"0"},null,null,null,null,null,null,null,null,null,null,null,"DESPESAS EDUCAÇÃO",null,{"$f":"H63","v":0},null,null,0,7091,0]
[null,null,null,null,null,"Ascendente",261.25,null,null,null,null,null,null,null,null,null,null,null,null,null,null,null,null,null,null,null,null,null,null,null,7091.0001000000002,20261,0]
[null,null,null,null,null,"Só 1 Ascendente",{"$f":"0.85*475","v":403.75},null,null,null,null,null,null,null,null,null,null,null,null,null,null,null,null,null,null,"RMMG (557 x 14 = 7798 )",null,{"$f":"IF(AND(C122=2,C131=2),-7798,-7798*$C$92)","v":-7798},null,null,20261.001,40522,0]
[null,null,null,null,null,null,null,null,null,null,null,null,null,null,null,null,null,null,null,null,null,null,null,null,null,null,null,null,null,null,40522.000999999997,80640,0]
[null,null,null,null,null,null,null,null,null,null,null,null,null,null,null,null,null,null,null,null,null,null,null,null,null,null,null,null,null,null,80640.001000000004,9.9999999999999904E+16,0]
[null,null,null,null,null,null,2015,2016,2017,2018,null,null,null,null,null,null,null,null,null,null,null,null,null,null,null,"RENDIMENTO PARA EFEITOS DE SOBRETAXA",null,{"$f":"IF(+AB222+AB226-AB224<0,0,+AB222+AB226-AB224)","v":0}]
[null,null,null,null,null,"Sujeito Passivo",0,0,0,0]
[null,null,null,null,null,"Dependentes",325,600,600,600,null,null,null,null,null,null,null,null,null,null,null,null,null,null,null,"SOBRETAXA A PAGAR",null,{"$f":"IF((VLOOKUP(IF(C92=1,AB222,IF(AND(C92=2,C101=1),AB222/2,AB222)),AE224:AG228,3,TRUE)*AB229)<0,0,VLOOKUP(IF(C92=1,AB222,IF(AND(C92=2,C101=1),AB222/2,AB222)),AE224:AG228,3,TRUE)*AB229)","v":0}]
[null,null,null,null,null,"Ascendentes",300,525,525,525,110]
[null,null,null,null,null,null,null,null,null,null,null,null,null,null,null,null,null,null,null,null,null,null,null,null,null,"DEDUÇÃO À COLECTA POR FILHOS (2.5%*557=13.925)",null,{"$f":"IF(AND(C122=2,C131=2),(IF(AB177=0,0,IF(C131=2,(-13.925*$C$95)/2,-13.925*$C$95)))/2,IF(AB177=0,0,IF(C131=2,(-13.925*$C$95)/2,-13.925*$C$95)))","v":0}]
[]
[null,null,null,null,null,2015,null,null,null,null,null,null,null,null,null,null,null,null,null,null,null,null,null,null,null,"TOTAL A PAGAR",null,{"$f":"IF(AB231+AB233<0,0,AB231+AB233)","v":0}]
[null,null,null,null,null,"Coefiente Familiar",null,null,null,"dependentes"]
[null,null,null,null,null,"Situação Familiar (1 - Solteiro; 2 - Casado):",{"$f":"C92","v":1},null,null,0,1,2,3]
[null,null,null,null,null,"Nº de Dependentes (0-5):",{"$f":"C95","v":0},null,"solteiro",0,0,0,0]
[null,null,null,null,null,"Ascendentes (0-4):",{"$f":"C96","v":"0"},null,"monoparental",0,350,750,1200]
[null,null,null,null,null,"Coefiente Familiar",{"$f":"IF(AND(C92=2,C101=2),1+(0.15*G238)+(0.15*G239),G237+(0.3*G238)+(0.3*G239))","v":1},null,"separada",0,300,625,1000]
[null,null,null,null,null,null,null,null,"conjunta",0,600,1250,2000]
[null,null,null,null,null,null,null,null,null,{"$f":"INDEX(J238:M241,O242,O245)","v":0},0,1,null,"estado civil",{"$f":"IF(AND(C92=N247,O244>0),N248,IF(AND(C92=2,C101=2),N249,IF(AND(C92=2,C101=1),N250,N247)))","v":1}]
[null,null,null,null,null,null,null,null,null,null,1,2]
[null,null,null,null,null,"Minimo de existência",null,null,null,null,2,3,null,"dependentes",{"$f":"C95","v":0}]
[null,null,null,null,null,2014,2015,null,null,null,3,4,null,null,{"$f":"VLOOKUP(O244,K242:L251,2,FALSE)","v":1}]
[null,null,null,null,null,null,8500,null,null,null,4,4]
[null,null,null,null,null,null,11320,null,null,null,5,4,null,1,"solteiro"]
[null,null,null,null,null,null,15560,null,null,null,6,4,null,2,"monoparental"]
[null,null,null,null,null,null,null,null,null,null,7,4,null,3,"separada"]
[null,null,null,null,null,null,null,null,null,null,8,4,null,4,"conjunta"]
[null,null,null,null,null,null,null,null,null,null,9,4]
[]
[null,null,null,null,null,null,null,null,"Cálculo do Subsídio de Natal",null,null,null,null,null,null,null,"Abatimento Educação"]
[]
[null,null,null,null,null,null,null,2014]
[null,null,null,null,null,null,null,null,null,null,"Sujeito Passivo A",null,"Sujeito Passivo B",null,null,null,"Limites"]
[null,null,null,null,null,null,null,null,null,null,"Valor Mensal","Valor anual","Valor Mensal","Valor anual",null,"Solteiro",2250]
[null,null,null,null,null,null,null,"Valor sem cortes",null,null,{"$f":"+$M$93/14","v":0},null,{"$f":"+$N$93/14","v":0},null,null,"Tributação Separada",2250]
[null,null,null,null,null,null,null,"Corte (Janeiro - Maio)",null,null,{"$f":"IF(K258<675,0,IF(AND(K258>675,K258<2000),((0.025+((0.12-0.025)*((K258-675)/(2000-675))))*K258),12%*K258))","v":0},{"$f":"+K259*5","v":0},{"$f":"IF(M258<675,0,IF(AND(M258>675,M258<2000),(0.025+(9.5%)*((M258-675)/1325))*M258,12%*M258))","v":0},{"$f":"+M259*5","v":0},null,"Tributação Conjunta",{"$f":"+Q257*2","v":4500}]
[null,null,null,null,null,null,null,"Corte (Junho - Agosto)",null,null,0,0,0,0]
[null,null,null,null,null,null,null,"Corte (Setembro - Dezembro)",null,null,{"$f":"+IF(K258<=1500,0,IF(AND(K258>1500,K258<=2000),3.5%*K258,IF(AND(K258>2000,K258<4165),(3.5%*2000)+16%*(K258-2000),10%*K258)))","v":0},{"$f":"+K261*4","v":0},{"$f":"+IF(M258<=1500,0,IF(AND(M258>1500,M258<=2000),3.5%*M258,IF(AND(M258>2000,M258<4165),(3.5%*2000)+16%*(M258-2000),10%*M258)))","v":0},{"$f":"+M261*4","v":0}]
[null,null,null,null,null,null,null,"Duodécimos (Jan - Mai)",null,null,0,{"$f":"IF(K259<0,0,(K259/12)*5)","v":0},0,{"$f":"IF(M259<0,0,(M259/12)*5)","v":0}]
[null,null,null,null,null,null,null,"Duodécimos (Jun - Ago)",null,null,0,0,0,0]
[null,null,null,null,null,null,null,"Duodécimos (Set - Dez)",null,null,0,{"$f":"IF(K261<0,0,(K261/12)*4)","v":0},0,{"$f":"IF(M261<0,0,(M261/12)*4)","v":0}]
[null,null,null,null,null,null,null,"Valor total do Subsídio de Natal"]
[null,null,null,null,null,null,null,"Total anual de corte",null,null,null,{"$f":"+SUM(L259:L264)","v":0},null,{"$f":"+SUM(N259:N264)","v":0}]
[]
[null,null,null,null,null,null,null,2016]
[null,null,null,null,null,null,null,null,null,null,"Sujeito Passivo A",null,"Sujeito Passivo B"]
[null,null,null,null,null,null,null,null,null,null,"Valor Mensal","Valor anual","Valor Mensal","Valor anual"]
[null,null,null,null,null,null,null,"Valor sem cortes",null,null,{"$f":"$M$93/14","v":0},null,{"$f":"+$N$93/14","v":0}]
[null,null,null,null,null,null,null,"Corte (Janeiro - Março)",null,null,{"$f":"(IF(($K$271)<1500,0,IF(AND(($K$271)>1500,($K$271)<=2000),3.5%*($K$271),IF(AND(($K$271)>2000,($K$271)<4165),3.5%*2000+16%*(($K$271)-2000),10%*($K$271)))))*0.8*0.75","v":0},{"$f":"+K272*3","v":0},{"$f":"(IF(($M$271)<1500,0,IF(AND(($M$271)>1500,($M$271)<=2000),3.5%*($M$271),IF(AND(($M$271)>2000,($M$271)<4165),3.5%*2000+16%*(($M$271)-2000),10%*($M$271)))))*0.8*0.75","v":0},{"$f":"+M272*3","v":0}]
[null,null,null,null,null,null,null,"Corte (Abril - Junho)",null,null,{"$f":"(IF(($K$271)<1500,0,IF(AND(($K$271)>1500,($K$271)<=2000),3.5%*($K$271),IF(AND(($K$271)>2000,($K$271)<4165),3.5%*2000+16%*(($K$271)-2000),10%*($K$271)))))*0.8*0.5","v":0},{"$f":"+K273*3","v":0},{"$f":"(IF(($M$271)<1500,0,IF(AND(($M$271)>1500,($M$271)<=2000),3.5%*($M$271),IF(AND(($M$271)>2000,($M$271)<4165),3.5%*2000+16%*(($M$271)-2000),10%*($M$271)))))*0.8*0.5","v":0},{"$f":"+M273*3","v":0}]
[null,null,null,null,null,null,null,"Corte (Julho - Setembro)",null,null,{"$f":"(IF(($K$271)<1500,0,IF(AND(($K$271)>1500,($K$271)<=2000),3.5%*($K$271),IF(AND(($K$271)>2000,($K$271)<4165),3.5%*2000+16%*(($K$271)-2000),10%*($K$271)))))*0.8*0.25","v":0},{"$f":"+K274*3","v":0},{"$f":"(IF(($M$271)<1500,0,IF(AND(($M$271)>1500,($M$271)<=2000),3.5%*($M$271),IF(AND(($M$271)>2000,($M$271)<4165),3.5%*2000+16%*(($M$271)-2000),10%*($M$271)))))*0.8*0.25","v":0},{"$f":"+M274*3","v":0}]
[null,null,null,null,null,null,null,"Corte (Outubro - Dezembro)",null,null,null,{"$f":"+K275*3","v":0},null,{"$f":"+M275*3","v":0}]
[null,null,null,null,null,null,null,"Duodécimos (Jan - Mar)",null,null,0,{"$f":"IF(K272<0,0,(K272/12)*3)","v":0},0,{"$f":"IF(M272<0,0,(M272/12)*3)","v":0}]
[null,null,null,null,null,null,null,"Duodécimos (Abr - Jun)",null,null,null,{"$f":"IF(K273<0,0,(K273/12)*3)","v":0},null,{"$f":"IF(M273<0,0,(M273/12)*3)","v":0}]
[null,null,null,null,null,null,null,"Duodécimos (Jul - Set)",null,null,0,{"$f":"IF(K274<0,0,(K274/12)*3)","v":0},0,{"$f":"IF(M274<0,0,(M274/12)*3)","v":0}]
[null,null,null,null,null,null,null,"Duodécimos (Out - Dez)"]
[null,null,null,null,null,null,null,"Valor total do Subsídio de Natal"]
[null,null,null,null,null,null,null,"Total anual de corte",null,null,null,{"$f":"+SUM(L272:L279)","v":0},null,{"$f":"+SUM(N272:N279)","v":0}]
[]
[null,null,null,null,null,null,null,2017]
[null,null,null,null,null,null,null,null,null,null,"Sujeito Passivo A",null,"Sujeito Passivo B"]
[null,null,null,null,null,null,null,null,null,null,"Valor Mensal","Valor anual","Valor Mensal","Valor anual"]
[null,null,null,null,null,null,null,"Valor sem cortes",null,null,{"$f":"$M$93/14","v":0},null,{"$f":"+$N$93/14","v":0}]
[null,null,null,null,null,null,null,"Corte (Janeiro - Março)",null,null,0,{"$f":"+K287*3","v":0},0,{"$f":"+M287*3","v":0}]
[null,null,null,null,null,null,null,"Corte (Abril - Junho)",null,null,0,{"$f":"+K288*3","v":0},0,{"$f":"+M288*3","v":0}]
[null,null,null,null,null,null,null,"Corte (Julho - Setembro)",null,null,0,{"$f":"+K289*3","v":0},0,{"$f":"+M289*3","v":0}]
[null,null,null,null,null,null,null,"Corte (Outubro - Dezembro)",null,null,null,{"$f":"+K290*3","v":0},null,{"$f":"+M290*3","v":0}]
[null,null,null,null,null,null,null,"Duodécimos (Jan - Mar)",null,null,0,{"$f":"IF(K287<0,0,(K287/12)*3)","v":0},0,{"$f":"IF(M287<0,0,(M287/12)*3)","v":0}]
[null,null,null,null,null,null,null,"Duodécimos (Abr - Jun)",null,null,null,{"$f":"IF(K288<0,0,(K288/12)*3)","v":0},null,{"$f":"IF(M288<0,0,(M288/12)*3)","v":0}]
[null,null,null,null,null,null,null,"Duodécimos (Jul - Set)",null,null,0,{"$f":"IF(K289<0,0,(K289/12)*3)","v":0},0,{"$f":"IF(M289<0,0,(M289/12)*3)","v":0}]
[null,null,null,null,null,null,null,"Duodécimos (Out - Dez)"]
[null,null,null,null,null,null,null,"Valor total do Subsídio de Natal"]
[null,null,null,null,null,null,null,"Total anual de corte",null,null,null,{"$f":"+SUM(L287:L294)","v":0},null,{"$f":"+SUM(N287:N294)","v":0}]
[]
[null,null,null,null,null,null,null,2018]
[null,null,null,null,null,null,null,null,null,null,"Sujeito Passivo A",null,"Sujeito Passivo B"]
[null,null,null,null,null,null,null,null,null,null,"Valor Mensal","Valor anual","Valor Mensal","Valor anual"]
[null,null,null,null,null,null,null,"Valor sem cortes",null,null,{"$f":"$M$93/14","v":0},null,{"$f":"+$N$93/14","v":0}]
[null,null,null,null,null,null,null,"Corte (Janeiro - Março)",null,null,0,{"$f":"+K302*3","v":0},0,{"$f":"+M302*3","v":0}]
[null,null,null,null,null,null,null,"Corte (Abril - Junho)",null,null,0,{"$f":"+K303*3","v":0},0,{"$f":"+M303*3","v":0}]
[null,null,null,null,null,null,null,"Corte (Julho - Setembro)",null,null,0,{"$f":"+K304*3","v":0},0,{"$f":"+M304*3","v":0}]
[null,null,null,null,null,null,null,"Corte (Outubro - Dezembro)",null,null,null,{"$f":"+K305*3","v":0},null,{"$f":"+M305*3","v":0}]
[null,null,null,null,null,null,null,"Duodécimos (Jan - Mar)",null,null,0,{"$f":"IF(K302<0,0,(K302/12)*3)","v":0},0,{"$f":"IF(M302<0,0,(M302/12)*3)","v":0}]
[null,null,null,null,null,null,null,"Duodécimos (Abr - Jun)",null,null,null,{"$f":"IF(K303<0,0,(K303/12)*3)","v":0},null,{"$f":"IF(M303<0,0,(M303/12)*3)","v":0}]
[null,null,null,null,null,null,null,"Duodécimos (Jul - Set)",null,null,0,{"$f":"IF(K304<0,0,(K304/12)*3)","v":0},0,{"$f":"IF(M304<0,0,(M304/12)*3)","v":0}]
[null,null,null,null,null,null,null,"Duodécimos (Out - Dez)"]
[null,null,null,null,null,null,null,"Valor total do Subsídio de Natal"]
[null,null,null,null,null,null,null,"Total anual de corte",null,null,null,{"$f":"+SUM(L302:L309)","v":0},null,{"$f":"+SUM(N302:N309)","v":0}]